BEGIN:VCALENDAR
VERSION:2.0
PRODID:-//The Dog Guide San Antonio - ECPv6.13.2.1//NONSGML v1.0//EN
CALSCALE:GREGORIAN
METHOD:PUBLISH
X-WR-CALNAME:The Dog Guide San Antonio
X-ORIGINAL-URL:https://dogfriendlysanantonio.com
X-WR-CALDESC:Events for The Dog Guide San Antonio
REFRESH-INTERVAL;VALUE=DURATION:PT1H
X-Robots-Tag:noindex
X-PUBLISHED-TTL:PT1H
BEGIN:VTIMEZONE
TZID:UTC
BEGIN:STANDARD
TZOFFSETFROM:+0000
TZOFFSETTO:+0000
TZNAME:UTC
DTSTART:20250101T000000
END:STANDARD
END:VTIMEZONE
BEGIN:VEVENT
DTSTART;TZID=UTC:20250524T090000
DTEND;TZID=UTC:20250524T130000
DTSTAMP:20260425T152459
CREATED:20220204T055045Z
LAST-MODIFIED:20220204T055045Z
UID:22335-1748077200-1748091600@dogfriendlysanantonio.com
SUMMARY:Pearl Farmers Market
DESCRIPTION:Saturdays markets are dedicated to our local farmers and ranchers. Find fresh produce and meat local to South Texas.
URL:https://dogfriendlysanantonio.com/event/pearl-farmers-market-4-2025-05-24/
LOCATION:The Historic Pearl
CATEGORIES:Shopping
END:VEVENT
BEGIN:VEVENT
DTSTART;TZID=UTC:20250521T180000
DTEND;TZID=UTC:20250521T210000
DTSTAMP:20260425T152459
CREATED:20220304T222423Z
LAST-MODIFIED:20220304T222423Z
UID:22317-1747850400-1747861200@dogfriendlysanantonio.com
SUMMARY:Doggie Days
DESCRIPTION:Pamper your pup every Wednesday at Chicken N Pickle! We will have the most  pawesome  local dog-centric vendors on site for you & your pup to explore.
URL:https://dogfriendlysanantonio.com/event/doggie-days-3-2025-05-21/
LOCATION:Chicken N Pickle\, 5215 UTSA Blvd\, San Antonio\, TX\, 78249\, United States
CATEGORIES:Happy Hour,Shopping,Social
ATTACH;FMTTYPE=image/jpeg:https://dogfriendlysanantonio.com/wp-content/uploads/2022/03/chicken-n-pickle-doggie-days.jpeg
END:VEVENT
BEGIN:VEVENT
DTSTART;TZID=UTC:20250520T190000
DTEND;TZID=UTC:20250520T230000
DTSTAMP:20260425T152459
CREATED:20240104T225355Z
LAST-MODIFIED:20240104T225355Z
UID:26816-1747767600-1747782000@dogfriendlysanantonio.com
SUMMARY:Karaoke at Idle Beer
DESCRIPTION:Tuesday Karaoke Night at #IdleBrewing 🎶 Hosted by Irish Cowboy Productions Karaoke 🎶 Every Tuesday night starting at 7pm — sing your heart out and enjoy a cold beer!  Whether you’re a seasoned pro or a complete beginner\, everyone is welcome to join in on the fun.
URL:https://dogfriendlysanantonio.com/event/karaoke-at-idle-beer-2025-05-20/
LOCATION:Idle Beer Hall & Brewery\, 414 Brooklyn Ave
CATEGORIES:Happy Hour,Music
ATTACH;FMTTYPE=image/png:https://dogfriendlysanantonio.com/wp-content/uploads/2024/01/karaoke-idle-beer.png
END:VEVENT
BEGIN:VEVENT
DTSTART;TZID=UTC:20250517T090000
DTEND;TZID=UTC:20250517T130000
DTSTAMP:20260425T152459
CREATED:20220204T055045Z
LAST-MODIFIED:20220204T055045Z
UID:22315-1747472400-1747486800@dogfriendlysanantonio.com
SUMMARY:Pearl Farmers Market
DESCRIPTION:Saturdays markets are dedicated to our local farmers and ranchers. Find fresh produce and meat local to South Texas.
URL:https://dogfriendlysanantonio.com/event/pearl-farmers-market-4-2025-05-17/
LOCATION:The Historic Pearl
CATEGORIES:Shopping
END:VEVENT
BEGIN:VEVENT
DTSTART;TZID=UTC:20250514T180000
DTEND;TZID=UTC:20250514T210000
DTSTAMP:20260425T152459
CREATED:20220304T222423Z
LAST-MODIFIED:20220304T222423Z
UID:22316-1747245600-1747256400@dogfriendlysanantonio.com
SUMMARY:Doggie Days
DESCRIPTION:Pamper your pup every Wednesday at Chicken N Pickle! We will have the most  pawesome  local dog-centric vendors on site for you & your pup to explore.
URL:https://dogfriendlysanantonio.com/event/doggie-days-3-2025-05-14/
LOCATION:Chicken N Pickle\, 5215 UTSA Blvd\, San Antonio\, TX\, 78249\, United States
CATEGORIES:Happy Hour,Shopping,Social
ATTACH;FMTTYPE=image/jpeg:https://dogfriendlysanantonio.com/wp-content/uploads/2022/03/chicken-n-pickle-doggie-days.jpeg
END:VEVENT
BEGIN:VEVENT
DTSTART;TZID=UTC:20250513T190000
DTEND;TZID=UTC:20250513T230000
DTSTAMP:20260425T152459
CREATED:20240104T225355Z
LAST-MODIFIED:20240104T225355Z
UID:26815-1747162800-1747177200@dogfriendlysanantonio.com
SUMMARY:Karaoke at Idle Beer
DESCRIPTION:Tuesday Karaoke Night at #IdleBrewing 🎶 Hosted by Irish Cowboy Productions Karaoke 🎶 Every Tuesday night starting at 7pm — sing your heart out and enjoy a cold beer!  Whether you’re a seasoned pro or a complete beginner\, everyone is welcome to join in on the fun.
URL:https://dogfriendlysanantonio.com/event/karaoke-at-idle-beer-2025-05-13/
LOCATION:Idle Beer Hall & Brewery\, 414 Brooklyn Ave
CATEGORIES:Happy Hour,Music
ATTACH;FMTTYPE=image/png:https://dogfriendlysanantonio.com/wp-content/uploads/2024/01/karaoke-idle-beer.png
END:VEVENT
BEGIN:VEVENT
DTSTART;TZID=UTC:20250510T090000
DTEND;TZID=UTC:20250510T130000
DTSTAMP:20260425T152459
CREATED:20220204T055045Z
LAST-MODIFIED:20220204T055045Z
UID:22314-1746867600-1746882000@dogfriendlysanantonio.com
SUMMARY:Pearl Farmers Market
DESCRIPTION:Saturdays markets are dedicated to our local farmers and ranchers. Find fresh produce and meat local to South Texas.
URL:https://dogfriendlysanantonio.com/event/pearl-farmers-market-4-2025-05-10/
LOCATION:The Historic Pearl
CATEGORIES:Shopping
END:VEVENT
BEGIN:VEVENT
DTSTART;TZID=UTC:20250507T180000
DTEND;TZID=UTC:20250507T210000
DTSTAMP:20260425T152459
CREATED:20220304T222423Z
LAST-MODIFIED:20220304T222423Z
UID:22121-1746640800-1746651600@dogfriendlysanantonio.com
SUMMARY:Doggie Days
DESCRIPTION:Pamper your pup every Wednesday at Chicken N Pickle! We will have the most  pawesome  local dog-centric vendors on site for you & your pup to explore.
URL:https://dogfriendlysanantonio.com/event/doggie-days-3-2025-05-07/
LOCATION:Chicken N Pickle\, 5215 UTSA Blvd\, San Antonio\, TX\, 78249\, United States
CATEGORIES:Happy Hour,Shopping,Social
ATTACH;FMTTYPE=image/jpeg:https://dogfriendlysanantonio.com/wp-content/uploads/2022/03/chicken-n-pickle-doggie-days.jpeg
END:VEVENT
BEGIN:VEVENT
DTSTART;TZID=UTC:20250506T190000
DTEND;TZID=UTC:20250506T230000
DTSTAMP:20260425T152459
CREATED:20240104T225355Z
LAST-MODIFIED:20240104T225355Z
UID:26814-1746558000-1746572400@dogfriendlysanantonio.com
SUMMARY:Karaoke at Idle Beer
DESCRIPTION:Tuesday Karaoke Night at #IdleBrewing 🎶 Hosted by Irish Cowboy Productions Karaoke 🎶 Every Tuesday night starting at 7pm — sing your heart out and enjoy a cold beer!  Whether you’re a seasoned pro or a complete beginner\, everyone is welcome to join in on the fun.
URL:https://dogfriendlysanantonio.com/event/karaoke-at-idle-beer-2025-05-06/
LOCATION:Idle Beer Hall & Brewery\, 414 Brooklyn Ave
CATEGORIES:Happy Hour,Music
ATTACH;FMTTYPE=image/png:https://dogfriendlysanantonio.com/wp-content/uploads/2024/01/karaoke-idle-beer.png
END:VEVENT
BEGIN:VEVENT
DTSTART;TZID=UTC:20250503T090000
DTEND;TZID=UTC:20250503T130000
DTSTAMP:20260425T152459
CREATED:20220204T055045Z
LAST-MODIFIED:20220204T055045Z
UID:22017-1746262800-1746277200@dogfriendlysanantonio.com
SUMMARY:Pearl Farmers Market
DESCRIPTION:Saturdays markets are dedicated to our local farmers and ranchers. Find fresh produce and meat local to South Texas.
URL:https://dogfriendlysanantonio.com/event/pearl-farmers-market-4-2025-05-03/
LOCATION:The Historic Pearl
CATEGORIES:Shopping
END:VEVENT
BEGIN:VEVENT
DTSTART;TZID=UTC:20250430T180000
DTEND;TZID=UTC:20250430T210000
DTSTAMP:20260425T152459
CREATED:20220304T222423Z
LAST-MODIFIED:20220304T222423Z
UID:21995-1746036000-1746046800@dogfriendlysanantonio.com
SUMMARY:Doggie Days
DESCRIPTION:Pamper your pup every Wednesday at Chicken N Pickle! We will have the most  pawesome  local dog-centric vendors on site for you & your pup to explore.
URL:https://dogfriendlysanantonio.com/event/doggie-days-3-2025-04-30/
LOCATION:Chicken N Pickle\, 5215 UTSA Blvd\, San Antonio\, TX\, 78249\, United States
CATEGORIES:Happy Hour,Shopping,Social
ATTACH;FMTTYPE=image/jpeg:https://dogfriendlysanantonio.com/wp-content/uploads/2022/03/chicken-n-pickle-doggie-days.jpeg
END:VEVENT
BEGIN:VEVENT
DTSTART;TZID=UTC:20250429T190000
DTEND;TZID=UTC:20250429T230000
DTSTAMP:20260425T152459
CREATED:20240104T225355Z
LAST-MODIFIED:20240104T225355Z
UID:26813-1745953200-1745967600@dogfriendlysanantonio.com
SUMMARY:Karaoke at Idle Beer
DESCRIPTION:Tuesday Karaoke Night at #IdleBrewing 🎶 Hosted by Irish Cowboy Productions Karaoke 🎶 Every Tuesday night starting at 7pm — sing your heart out and enjoy a cold beer!  Whether you’re a seasoned pro or a complete beginner\, everyone is welcome to join in on the fun.
URL:https://dogfriendlysanantonio.com/event/karaoke-at-idle-beer-2025-04-29/
LOCATION:Idle Beer Hall & Brewery\, 414 Brooklyn Ave
CATEGORIES:Happy Hour,Music
ATTACH;FMTTYPE=image/png:https://dogfriendlysanantonio.com/wp-content/uploads/2024/01/karaoke-idle-beer.png
END:VEVENT
BEGIN:VEVENT
DTSTART;TZID=UTC:20250426T090000
DTEND;TZID=UTC:20250426T130000
DTSTAMP:20260425T152459
CREATED:20220204T055045Z
LAST-MODIFIED:20220204T055045Z
UID:21943-1745658000-1745672400@dogfriendlysanantonio.com
SUMMARY:Pearl Farmers Market
DESCRIPTION:Saturdays markets are dedicated to our local farmers and ranchers. Find fresh produce and meat local to South Texas.
URL:https://dogfriendlysanantonio.com/event/pearl-farmers-market-4-2025-04-26/
LOCATION:The Historic Pearl
CATEGORIES:Shopping
END:VEVENT
BEGIN:VEVENT
DTSTART;TZID=UTC:20250423T180000
DTEND;TZID=UTC:20250423T210000
DTSTAMP:20260425T152459
CREATED:20220304T222423Z
LAST-MODIFIED:20220304T222423Z
UID:21912-1745431200-1745442000@dogfriendlysanantonio.com
SUMMARY:Doggie Days
DESCRIPTION:Pamper your pup every Wednesday at Chicken N Pickle! We will have the most  pawesome  local dog-centric vendors on site for you & your pup to explore.
URL:https://dogfriendlysanantonio.com/event/doggie-days-3-2025-04-23/
LOCATION:Chicken N Pickle\, 5215 UTSA Blvd\, San Antonio\, TX\, 78249\, United States
CATEGORIES:Happy Hour,Shopping,Social
ATTACH;FMTTYPE=image/jpeg:https://dogfriendlysanantonio.com/wp-content/uploads/2022/03/chicken-n-pickle-doggie-days.jpeg
END:VEVENT
BEGIN:VEVENT
DTSTART;TZID=UTC:20250422T190000
DTEND;TZID=UTC:20250422T230000
DTSTAMP:20260425T152459
CREATED:20240104T225355Z
LAST-MODIFIED:20240104T225355Z
UID:26812-1745348400-1745362800@dogfriendlysanantonio.com
SUMMARY:Karaoke at Idle Beer
DESCRIPTION:Tuesday Karaoke Night at #IdleBrewing 🎶 Hosted by Irish Cowboy Productions Karaoke 🎶 Every Tuesday night starting at 7pm — sing your heart out and enjoy a cold beer!  Whether you’re a seasoned pro or a complete beginner\, everyone is welcome to join in on the fun.
URL:https://dogfriendlysanantonio.com/event/karaoke-at-idle-beer-2025-04-22/
LOCATION:Idle Beer Hall & Brewery\, 414 Brooklyn Ave
CATEGORIES:Happy Hour,Music
ATTACH;FMTTYPE=image/png:https://dogfriendlysanantonio.com/wp-content/uploads/2024/01/karaoke-idle-beer.png
END:VEVENT
BEGIN:VEVENT
DTSTART;TZID=UTC:20250419T090000
DTEND;TZID=UTC:20250419T130000
DTSTAMP:20260425T152459
CREATED:20220204T055045Z
LAST-MODIFIED:20220204T055045Z
UID:21774-1745053200-1745067600@dogfriendlysanantonio.com
SUMMARY:Pearl Farmers Market
DESCRIPTION:Saturdays markets are dedicated to our local farmers and ranchers. Find fresh produce and meat local to South Texas.
URL:https://dogfriendlysanantonio.com/event/pearl-farmers-market-4-2025-04-19/
LOCATION:The Historic Pearl
CATEGORIES:Shopping
END:VEVENT
BEGIN:VEVENT
DTSTART;TZID=UTC:20250416T180000
DTEND;TZID=UTC:20250416T210000
DTSTAMP:20260425T152459
CREATED:20220304T222423Z
LAST-MODIFIED:20220304T222423Z
UID:21735-1744826400-1744837200@dogfriendlysanantonio.com
SUMMARY:Doggie Days
DESCRIPTION:Pamper your pup every Wednesday at Chicken N Pickle! We will have the most  pawesome  local dog-centric vendors on site for you & your pup to explore.
URL:https://dogfriendlysanantonio.com/event/doggie-days-3-2025-04-16/
LOCATION:Chicken N Pickle\, 5215 UTSA Blvd\, San Antonio\, TX\, 78249\, United States
CATEGORIES:Happy Hour,Shopping,Social
ATTACH;FMTTYPE=image/jpeg:https://dogfriendlysanantonio.com/wp-content/uploads/2022/03/chicken-n-pickle-doggie-days.jpeg
END:VEVENT
BEGIN:VEVENT
DTSTART;TZID=UTC:20250415T190000
DTEND;TZID=UTC:20250415T230000
DTSTAMP:20260425T152459
CREATED:20240104T225355Z
LAST-MODIFIED:20240104T225355Z
UID:26811-1744743600-1744758000@dogfriendlysanantonio.com
SUMMARY:Karaoke at Idle Beer
DESCRIPTION:Tuesday Karaoke Night at #IdleBrewing 🎶 Hosted by Irish Cowboy Productions Karaoke 🎶 Every Tuesday night starting at 7pm — sing your heart out and enjoy a cold beer!  Whether you’re a seasoned pro or a complete beginner\, everyone is welcome to join in on the fun.
URL:https://dogfriendlysanantonio.com/event/karaoke-at-idle-beer-2025-04-15/
LOCATION:Idle Beer Hall & Brewery\, 414 Brooklyn Ave
CATEGORIES:Happy Hour,Music
ATTACH;FMTTYPE=image/png:https://dogfriendlysanantonio.com/wp-content/uploads/2024/01/karaoke-idle-beer.png
END:VEVENT
BEGIN:VEVENT
DTSTART;TZID=UTC:20250412T090000
DTEND;TZID=UTC:20250412T130000
DTSTAMP:20260425T152459
CREATED:20220204T055045Z
LAST-MODIFIED:20220204T055045Z
UID:21635-1744448400-1744462800@dogfriendlysanantonio.com
SUMMARY:Pearl Farmers Market
DESCRIPTION:Saturdays markets are dedicated to our local farmers and ranchers. Find fresh produce and meat local to South Texas.
URL:https://dogfriendlysanantonio.com/event/pearl-farmers-market-4-2025-04-12/
LOCATION:The Historic Pearl
CATEGORIES:Shopping
END:VEVENT
BEGIN:VEVENT
DTSTART;TZID=UTC:20250409T180000
DTEND;TZID=UTC:20250409T210000
DTSTAMP:20260425T152459
CREATED:20220304T222423Z
LAST-MODIFIED:20220304T222423Z
UID:21600-1744221600-1744232400@dogfriendlysanantonio.com
SUMMARY:Doggie Days
DESCRIPTION:Pamper your pup every Wednesday at Chicken N Pickle! We will have the most  pawesome  local dog-centric vendors on site for you & your pup to explore.
URL:https://dogfriendlysanantonio.com/event/doggie-days-3-2025-04-09/
LOCATION:Chicken N Pickle\, 5215 UTSA Blvd\, San Antonio\, TX\, 78249\, United States
CATEGORIES:Happy Hour,Shopping,Social
ATTACH;FMTTYPE=image/jpeg:https://dogfriendlysanantonio.com/wp-content/uploads/2022/03/chicken-n-pickle-doggie-days.jpeg
END:VEVENT
BEGIN:VEVENT
DTSTART;TZID=UTC:20250408T190000
DTEND;TZID=UTC:20250408T230000
DTSTAMP:20260425T152459
CREATED:20240104T225355Z
LAST-MODIFIED:20240104T225355Z
UID:26810-1744138800-1744153200@dogfriendlysanantonio.com
SUMMARY:Karaoke at Idle Beer
DESCRIPTION:Tuesday Karaoke Night at #IdleBrewing 🎶 Hosted by Irish Cowboy Productions Karaoke 🎶 Every Tuesday night starting at 7pm — sing your heart out and enjoy a cold beer!  Whether you’re a seasoned pro or a complete beginner\, everyone is welcome to join in on the fun.
URL:https://dogfriendlysanantonio.com/event/karaoke-at-idle-beer-2025-04-08/
LOCATION:Idle Beer Hall & Brewery\, 414 Brooklyn Ave
CATEGORIES:Happy Hour,Music
ATTACH;FMTTYPE=image/png:https://dogfriendlysanantonio.com/wp-content/uploads/2024/01/karaoke-idle-beer.png
END:VEVENT
BEGIN:VEVENT
DTSTART;TZID=UTC:20250405T090000
DTEND;TZID=UTC:20250405T130000
DTSTAMP:20260425T152459
CREATED:20220204T055045Z
LAST-MODIFIED:20220204T055045Z
UID:21562-1743843600-1743858000@dogfriendlysanantonio.com
SUMMARY:Pearl Farmers Market
DESCRIPTION:Saturdays markets are dedicated to our local farmers and ranchers. Find fresh produce and meat local to South Texas.
URL:https://dogfriendlysanantonio.com/event/pearl-farmers-market-4-2025-04-05/
LOCATION:The Historic Pearl
CATEGORIES:Shopping
END:VEVENT
BEGIN:VEVENT
DTSTART;TZID=UTC:20250402T180000
DTEND;TZID=UTC:20250402T210000
DTSTAMP:20260425T152459
CREATED:20220304T222423Z
LAST-MODIFIED:20220304T222423Z
UID:21371-1743616800-1743627600@dogfriendlysanantonio.com
SUMMARY:Doggie Days
DESCRIPTION:Pamper your pup every Wednesday at Chicken N Pickle! We will have the most  pawesome  local dog-centric vendors on site for you & your pup to explore.
URL:https://dogfriendlysanantonio.com/event/doggie-days-3-2025-04-02/
LOCATION:Chicken N Pickle\, 5215 UTSA Blvd\, San Antonio\, TX\, 78249\, United States
CATEGORIES:Happy Hour,Shopping,Social
ATTACH;FMTTYPE=image/jpeg:https://dogfriendlysanantonio.com/wp-content/uploads/2022/03/chicken-n-pickle-doggie-days.jpeg
END:VEVENT
BEGIN:VEVENT
DTSTART;TZID=UTC:20250401T190000
DTEND;TZID=UTC:20250401T230000
DTSTAMP:20260425T152459
CREATED:20240104T225355Z
LAST-MODIFIED:20240104T225355Z
UID:26809-1743534000-1743548400@dogfriendlysanantonio.com
SUMMARY:Karaoke at Idle Beer
DESCRIPTION:Tuesday Karaoke Night at #IdleBrewing 🎶 Hosted by Irish Cowboy Productions Karaoke 🎶 Every Tuesday night starting at 7pm — sing your heart out and enjoy a cold beer!  Whether you’re a seasoned pro or a complete beginner\, everyone is welcome to join in on the fun.
URL:https://dogfriendlysanantonio.com/event/karaoke-at-idle-beer-2025-04-01/
LOCATION:Idle Beer Hall & Brewery\, 414 Brooklyn Ave
CATEGORIES:Happy Hour,Music
ATTACH;FMTTYPE=image/png:https://dogfriendlysanantonio.com/wp-content/uploads/2024/01/karaoke-idle-beer.png
END:VEVENT
BEGIN:VEVENT
DTSTART;TZID=UTC:20250329T090000
DTEND;TZID=UTC:20250329T130000
DTSTAMP:20260425T152459
CREATED:20220204T055045Z
LAST-MODIFIED:20220204T055045Z
UID:21322-1743238800-1743253200@dogfriendlysanantonio.com
SUMMARY:Pearl Farmers Market
DESCRIPTION:Saturdays markets are dedicated to our local farmers and ranchers. Find fresh produce and meat local to South Texas.
URL:https://dogfriendlysanantonio.com/event/pearl-farmers-market-4-2025-03-29/
LOCATION:The Historic Pearl
CATEGORIES:Shopping
END:VEVENT
BEGIN:VEVENT
DTSTART;TZID=UTC:20250326T180000
DTEND;TZID=UTC:20250326T210000
DTSTAMP:20260425T152459
CREATED:20220304T222423Z
LAST-MODIFIED:20220304T222423Z
UID:21277-1743012000-1743022800@dogfriendlysanantonio.com
SUMMARY:Doggie Days
DESCRIPTION:Pamper your pup every Wednesday at Chicken N Pickle! We will have the most  pawesome  local dog-centric vendors on site for you & your pup to explore.
URL:https://dogfriendlysanantonio.com/event/doggie-days-3-2025-03-26/
LOCATION:Chicken N Pickle\, 5215 UTSA Blvd\, San Antonio\, TX\, 78249\, United States
CATEGORIES:Happy Hour,Shopping,Social
ATTACH;FMTTYPE=image/jpeg:https://dogfriendlysanantonio.com/wp-content/uploads/2022/03/chicken-n-pickle-doggie-days.jpeg
END:VEVENT
BEGIN:VEVENT
DTSTART;TZID=UTC:20250325T190000
DTEND;TZID=UTC:20250325T230000
DTSTAMP:20260425T152459
CREATED:20240104T225355Z
LAST-MODIFIED:20240104T225355Z
UID:26808-1742929200-1742943600@dogfriendlysanantonio.com
SUMMARY:Karaoke at Idle Beer
DESCRIPTION:Tuesday Karaoke Night at #IdleBrewing 🎶 Hosted by Irish Cowboy Productions Karaoke 🎶 Every Tuesday night starting at 7pm — sing your heart out and enjoy a cold beer!  Whether you’re a seasoned pro or a complete beginner\, everyone is welcome to join in on the fun.
URL:https://dogfriendlysanantonio.com/event/karaoke-at-idle-beer-2025-03-25/
LOCATION:Idle Beer Hall & Brewery\, 414 Brooklyn Ave
CATEGORIES:Happy Hour,Music
ATTACH;FMTTYPE=image/png:https://dogfriendlysanantonio.com/wp-content/uploads/2024/01/karaoke-idle-beer.png
END:VEVENT
BEGIN:VEVENT
DTSTART;TZID=UTC:20250322T090000
DTEND;TZID=UTC:20250322T130000
DTSTAMP:20260425T152459
CREATED:20220204T055045Z
LAST-MODIFIED:20220204T055045Z
UID:21221-1742634000-1742648400@dogfriendlysanantonio.com
SUMMARY:Pearl Farmers Market
DESCRIPTION:Saturdays markets are dedicated to our local farmers and ranchers. Find fresh produce and meat local to South Texas.
URL:https://dogfriendlysanantonio.com/event/pearl-farmers-market-4-2025-03-22/
LOCATION:The Historic Pearl
CATEGORIES:Shopping
END:VEVENT
BEGIN:VEVENT
DTSTART;TZID=UTC:20250319T180000
DTEND;TZID=UTC:20250319T210000
DTSTAMP:20260425T152459
CREATED:20220304T222423Z
LAST-MODIFIED:20220304T222423Z
UID:21169-1742407200-1742418000@dogfriendlysanantonio.com
SUMMARY:Doggie Days
DESCRIPTION:Pamper your pup every Wednesday at Chicken N Pickle! We will have the most  pawesome  local dog-centric vendors on site for you & your pup to explore.
URL:https://dogfriendlysanantonio.com/event/doggie-days-3-2025-03-19/
LOCATION:Chicken N Pickle\, 5215 UTSA Blvd\, San Antonio\, TX\, 78249\, United States
CATEGORIES:Happy Hour,Shopping,Social
ATTACH;FMTTYPE=image/jpeg:https://dogfriendlysanantonio.com/wp-content/uploads/2022/03/chicken-n-pickle-doggie-days.jpeg
END:VEVENT
BEGIN:VEVENT
DTSTART;TZID=UTC:20250318T190000
DTEND;TZID=UTC:20250318T230000
DTSTAMP:20260425T152459
CREATED:20240104T225355Z
LAST-MODIFIED:20240104T225355Z
UID:26807-1742324400-1742338800@dogfriendlysanantonio.com
SUMMARY:Karaoke at Idle Beer
DESCRIPTION:Tuesday Karaoke Night at #IdleBrewing 🎶 Hosted by Irish Cowboy Productions Karaoke 🎶 Every Tuesday night starting at 7pm — sing your heart out and enjoy a cold beer!  Whether you’re a seasoned pro or a complete beginner\, everyone is welcome to join in on the fun.
URL:https://dogfriendlysanantonio.com/event/karaoke-at-idle-beer-2025-03-18/
LOCATION:Idle Beer Hall & Brewery\, 414 Brooklyn Ave
CATEGORIES:Happy Hour,Music
ATTACH;FMTTYPE=image/png:https://dogfriendlysanantonio.com/wp-content/uploads/2024/01/karaoke-idle-beer.png
END:VEVENT
END:VCALENDAR