BEGIN:VCALENDAR
VERSION:2.0
PRODID:-//The Dog Guide San Antonio - ECPv6.13.2.1//NONSGML v1.0//EN
CALSCALE:GREGORIAN
METHOD:PUBLISH
X-WR-CALNAME:The Dog Guide San Antonio
X-ORIGINAL-URL:https://dogfriendlysanantonio.com
X-WR-CALDESC:Events for The Dog Guide San Antonio
REFRESH-INTERVAL;VALUE=DURATION:PT1H
X-Robots-Tag:noindex
X-PUBLISHED-TTL:PT1H
BEGIN:VTIMEZONE
TZID:UTC
BEGIN:STANDARD
TZOFFSETFROM:+0000
TZOFFSETTO:+0000
TZNAME:UTC
DTSTART:20250101T000000
END:STANDARD
END:VTIMEZONE
BEGIN:VEVENT
DTSTART;TZID=UTC:20250927T090000
DTEND;TZID=UTC:20250927T130000
DTSTAMP:20260424T144142
CREATED:20220204T055045Z
LAST-MODIFIED:20220204T055045Z
UID:24418-1758963600-1758978000@dogfriendlysanantonio.com
SUMMARY:Pearl Farmers Market
DESCRIPTION:Saturdays markets are dedicated to our local farmers and ranchers. Find fresh produce and meat local to South Texas.
URL:https://dogfriendlysanantonio.com/event/pearl-farmers-market-4-2025-09-27/
LOCATION:The Historic Pearl
CATEGORIES:Shopping
END:VEVENT
BEGIN:VEVENT
DTSTART;TZID=UTC:20250924T180000
DTEND;TZID=UTC:20250924T210000
DTSTAMP:20260424T144142
CREATED:20220304T222423Z
LAST-MODIFIED:20220304T222423Z
UID:24379-1758736800-1758747600@dogfriendlysanantonio.com
SUMMARY:Doggie Days
DESCRIPTION:Pamper your pup every Wednesday at Chicken N Pickle! We will have the most  pawesome  local dog-centric vendors on site for you & your pup to explore.
URL:https://dogfriendlysanantonio.com/event/doggie-days-3-2025-09-24/
LOCATION:Chicken N Pickle\, 5215 UTSA Blvd\, San Antonio\, TX\, 78249\, United States
CATEGORIES:Happy Hour,Shopping,Social
ATTACH;FMTTYPE=image/jpeg:https://dogfriendlysanantonio.com/wp-content/uploads/2022/03/chicken-n-pickle-doggie-days.jpeg
END:VEVENT
BEGIN:VEVENT
DTSTART;TZID=UTC:20250923T190000
DTEND;TZID=UTC:20250923T230000
DTSTAMP:20260424T144142
CREATED:20240104T225355Z
LAST-MODIFIED:20240104T225355Z
UID:26834-1758654000-1758668400@dogfriendlysanantonio.com
SUMMARY:Karaoke at Idle Beer
DESCRIPTION:Tuesday Karaoke Night at #IdleBrewing 🎶 Hosted by Irish Cowboy Productions Karaoke 🎶 Every Tuesday night starting at 7pm — sing your heart out and enjoy a cold beer!  Whether you’re a seasoned pro or a complete beginner\, everyone is welcome to join in on the fun.
URL:https://dogfriendlysanantonio.com/event/karaoke-at-idle-beer-2025-09-23/
LOCATION:Idle Beer Hall & Brewery\, 414 Brooklyn Ave
CATEGORIES:Happy Hour,Music
ATTACH;FMTTYPE=image/png:https://dogfriendlysanantonio.com/wp-content/uploads/2024/01/karaoke-idle-beer.png
END:VEVENT
BEGIN:VEVENT
DTSTART;TZID=UTC:20250920T090000
DTEND;TZID=UTC:20250920T130000
DTSTAMP:20260424T144142
CREATED:20220204T055045Z
LAST-MODIFIED:20220204T055045Z
UID:24345-1758358800-1758373200@dogfriendlysanantonio.com
SUMMARY:Pearl Farmers Market
DESCRIPTION:Saturdays markets are dedicated to our local farmers and ranchers. Find fresh produce and meat local to South Texas.
URL:https://dogfriendlysanantonio.com/event/pearl-farmers-market-4-2025-09-20/
LOCATION:The Historic Pearl
CATEGORIES:Shopping
END:VEVENT
BEGIN:VEVENT
DTSTART;TZID=UTC:20250917T180000
DTEND;TZID=UTC:20250917T210000
DTSTAMP:20260424T144142
CREATED:20220304T222423Z
LAST-MODIFIED:20220304T222423Z
UID:24317-1758132000-1758142800@dogfriendlysanantonio.com
SUMMARY:Doggie Days
DESCRIPTION:Pamper your pup every Wednesday at Chicken N Pickle! We will have the most  pawesome  local dog-centric vendors on site for you & your pup to explore.
URL:https://dogfriendlysanantonio.com/event/doggie-days-3-2025-09-17/
LOCATION:Chicken N Pickle\, 5215 UTSA Blvd\, San Antonio\, TX\, 78249\, United States
CATEGORIES:Happy Hour,Shopping,Social
ATTACH;FMTTYPE=image/jpeg:https://dogfriendlysanantonio.com/wp-content/uploads/2022/03/chicken-n-pickle-doggie-days.jpeg
END:VEVENT
BEGIN:VEVENT
DTSTART;TZID=UTC:20250916T190000
DTEND;TZID=UTC:20250916T230000
DTSTAMP:20260424T144142
CREATED:20240104T225355Z
LAST-MODIFIED:20240104T225355Z
UID:26833-1758049200-1758063600@dogfriendlysanantonio.com
SUMMARY:Karaoke at Idle Beer
DESCRIPTION:Tuesday Karaoke Night at #IdleBrewing 🎶 Hosted by Irish Cowboy Productions Karaoke 🎶 Every Tuesday night starting at 7pm — sing your heart out and enjoy a cold beer!  Whether you’re a seasoned pro or a complete beginner\, everyone is welcome to join in on the fun.
URL:https://dogfriendlysanantonio.com/event/karaoke-at-idle-beer-2025-09-16/
LOCATION:Idle Beer Hall & Brewery\, 414 Brooklyn Ave
CATEGORIES:Happy Hour,Music
ATTACH;FMTTYPE=image/png:https://dogfriendlysanantonio.com/wp-content/uploads/2024/01/karaoke-idle-beer.png
END:VEVENT
BEGIN:VEVENT
DTSTART;TZID=UTC:20250913T090000
DTEND;TZID=UTC:20250913T130000
DTSTAMP:20260424T144142
CREATED:20220204T055045Z
LAST-MODIFIED:20220204T055045Z
UID:24287-1757754000-1757768400@dogfriendlysanantonio.com
SUMMARY:Pearl Farmers Market
DESCRIPTION:Saturdays markets are dedicated to our local farmers and ranchers. Find fresh produce and meat local to South Texas.
URL:https://dogfriendlysanantonio.com/event/pearl-farmers-market-4-2025-09-13/
LOCATION:The Historic Pearl
CATEGORIES:Shopping
END:VEVENT
BEGIN:VEVENT
DTSTART;TZID=UTC:20250910T180000
DTEND;TZID=UTC:20250910T210000
DTSTAMP:20260424T144142
CREATED:20220304T222423Z
LAST-MODIFIED:20220304T222423Z
UID:24251-1757527200-1757538000@dogfriendlysanantonio.com
SUMMARY:Doggie Days
DESCRIPTION:Pamper your pup every Wednesday at Chicken N Pickle! We will have the most  pawesome  local dog-centric vendors on site for you & your pup to explore.
URL:https://dogfriendlysanantonio.com/event/doggie-days-3-2025-09-10/
LOCATION:Chicken N Pickle\, 5215 UTSA Blvd\, San Antonio\, TX\, 78249\, United States
CATEGORIES:Happy Hour,Shopping,Social
ATTACH;FMTTYPE=image/jpeg:https://dogfriendlysanantonio.com/wp-content/uploads/2022/03/chicken-n-pickle-doggie-days.jpeg
END:VEVENT
BEGIN:VEVENT
DTSTART;TZID=UTC:20250909T190000
DTEND;TZID=UTC:20250909T230000
DTSTAMP:20260424T144142
CREATED:20240104T225355Z
LAST-MODIFIED:20240104T225355Z
UID:26832-1757444400-1757458800@dogfriendlysanantonio.com
SUMMARY:Karaoke at Idle Beer
DESCRIPTION:Tuesday Karaoke Night at #IdleBrewing 🎶 Hosted by Irish Cowboy Productions Karaoke 🎶 Every Tuesday night starting at 7pm — sing your heart out and enjoy a cold beer!  Whether you’re a seasoned pro or a complete beginner\, everyone is welcome to join in on the fun.
URL:https://dogfriendlysanantonio.com/event/karaoke-at-idle-beer-2025-09-09/
LOCATION:Idle Beer Hall & Brewery\, 414 Brooklyn Ave
CATEGORIES:Happy Hour,Music
ATTACH;FMTTYPE=image/png:https://dogfriendlysanantonio.com/wp-content/uploads/2024/01/karaoke-idle-beer.png
END:VEVENT
BEGIN:VEVENT
DTSTART;TZID=UTC:20250906T090000
DTEND;TZID=UTC:20250906T130000
DTSTAMP:20260424T144142
CREATED:20220204T055045Z
LAST-MODIFIED:20220204T055045Z
UID:24224-1757149200-1757163600@dogfriendlysanantonio.com
SUMMARY:Pearl Farmers Market
DESCRIPTION:Saturdays markets are dedicated to our local farmers and ranchers. Find fresh produce and meat local to South Texas.
URL:https://dogfriendlysanantonio.com/event/pearl-farmers-market-4-2025-09-06/
LOCATION:The Historic Pearl
CATEGORIES:Shopping
END:VEVENT
BEGIN:VEVENT
DTSTART;TZID=UTC:20250903T180000
DTEND;TZID=UTC:20250903T210000
DTSTAMP:20260424T144142
CREATED:20220304T222423Z
LAST-MODIFIED:20220304T222423Z
UID:24190-1756922400-1756933200@dogfriendlysanantonio.com
SUMMARY:Doggie Days
DESCRIPTION:Pamper your pup every Wednesday at Chicken N Pickle! We will have the most  pawesome  local dog-centric vendors on site for you & your pup to explore.
URL:https://dogfriendlysanantonio.com/event/doggie-days-3-2025-09-03/
LOCATION:Chicken N Pickle\, 5215 UTSA Blvd\, San Antonio\, TX\, 78249\, United States
CATEGORIES:Happy Hour,Shopping,Social
ATTACH;FMTTYPE=image/jpeg:https://dogfriendlysanantonio.com/wp-content/uploads/2022/03/chicken-n-pickle-doggie-days.jpeg
END:VEVENT
BEGIN:VEVENT
DTSTART;TZID=UTC:20250902T190000
DTEND;TZID=UTC:20250902T230000
DTSTAMP:20260424T144142
CREATED:20240104T225355Z
LAST-MODIFIED:20240104T225355Z
UID:26831-1756839600-1756854000@dogfriendlysanantonio.com
SUMMARY:Karaoke at Idle Beer
DESCRIPTION:Tuesday Karaoke Night at #IdleBrewing 🎶 Hosted by Irish Cowboy Productions Karaoke 🎶 Every Tuesday night starting at 7pm — sing your heart out and enjoy a cold beer!  Whether you’re a seasoned pro or a complete beginner\, everyone is welcome to join in on the fun.
URL:https://dogfriendlysanantonio.com/event/karaoke-at-idle-beer-2025-09-02/
LOCATION:Idle Beer Hall & Brewery\, 414 Brooklyn Ave
CATEGORIES:Happy Hour,Music
ATTACH;FMTTYPE=image/png:https://dogfriendlysanantonio.com/wp-content/uploads/2024/01/karaoke-idle-beer.png
END:VEVENT
BEGIN:VEVENT
DTSTART;TZID=UTC:20250830T090000
DTEND;TZID=UTC:20250830T130000
DTSTAMP:20260424T144142
CREATED:20220204T055045Z
LAST-MODIFIED:20220204T055045Z
UID:24161-1756544400-1756558800@dogfriendlysanantonio.com
SUMMARY:Pearl Farmers Market
DESCRIPTION:Saturdays markets are dedicated to our local farmers and ranchers. Find fresh produce and meat local to South Texas.
URL:https://dogfriendlysanantonio.com/event/pearl-farmers-market-4-2025-08-30/
LOCATION:The Historic Pearl
CATEGORIES:Shopping
END:VEVENT
BEGIN:VEVENT
DTSTART;TZID=UTC:20250827T180000
DTEND;TZID=UTC:20250827T210000
DTSTAMP:20260424T144142
CREATED:20220304T222423Z
LAST-MODIFIED:20220304T222423Z
UID:24164-1756317600-1756328400@dogfriendlysanantonio.com
SUMMARY:Doggie Days
DESCRIPTION:Pamper your pup every Wednesday at Chicken N Pickle! We will have the most  pawesome  local dog-centric vendors on site for you & your pup to explore.
URL:https://dogfriendlysanantonio.com/event/doggie-days-3-2025-08-27/
LOCATION:Chicken N Pickle\, 5215 UTSA Blvd\, San Antonio\, TX\, 78249\, United States
CATEGORIES:Happy Hour,Shopping,Social
ATTACH;FMTTYPE=image/jpeg:https://dogfriendlysanantonio.com/wp-content/uploads/2022/03/chicken-n-pickle-doggie-days.jpeg
END:VEVENT
BEGIN:VEVENT
DTSTART;TZID=UTC:20250826T190000
DTEND;TZID=UTC:20250826T230000
DTSTAMP:20260424T144142
CREATED:20240104T225355Z
LAST-MODIFIED:20240104T225355Z
UID:26830-1756234800-1756249200@dogfriendlysanantonio.com
SUMMARY:Karaoke at Idle Beer
DESCRIPTION:Tuesday Karaoke Night at #IdleBrewing 🎶 Hosted by Irish Cowboy Productions Karaoke 🎶 Every Tuesday night starting at 7pm — sing your heart out and enjoy a cold beer!  Whether you’re a seasoned pro or a complete beginner\, everyone is welcome to join in on the fun.
URL:https://dogfriendlysanantonio.com/event/karaoke-at-idle-beer-2025-08-26/
LOCATION:Idle Beer Hall & Brewery\, 414 Brooklyn Ave
CATEGORIES:Happy Hour,Music
ATTACH;FMTTYPE=image/png:https://dogfriendlysanantonio.com/wp-content/uploads/2024/01/karaoke-idle-beer.png
END:VEVENT
BEGIN:VEVENT
DTSTART;TZID=UTC:20250823T090000
DTEND;TZID=UTC:20250823T130000
DTSTAMP:20260424T144142
CREATED:20220204T055045Z
LAST-MODIFIED:20220204T055045Z
UID:24160-1755939600-1755954000@dogfriendlysanantonio.com
SUMMARY:Pearl Farmers Market
DESCRIPTION:Saturdays markets are dedicated to our local farmers and ranchers. Find fresh produce and meat local to South Texas.
URL:https://dogfriendlysanantonio.com/event/pearl-farmers-market-4-2025-08-23/
LOCATION:The Historic Pearl
CATEGORIES:Shopping
END:VEVENT
BEGIN:VEVENT
DTSTART;TZID=UTC:20250820T180000
DTEND;TZID=UTC:20250820T210000
DTSTAMP:20260424T144142
CREATED:20220304T222423Z
LAST-MODIFIED:20220304T222423Z
UID:24163-1755712800-1755723600@dogfriendlysanantonio.com
SUMMARY:Doggie Days
DESCRIPTION:Pamper your pup every Wednesday at Chicken N Pickle! We will have the most  pawesome  local dog-centric vendors on site for you & your pup to explore.
URL:https://dogfriendlysanantonio.com/event/doggie-days-3-2025-08-20/
LOCATION:Chicken N Pickle\, 5215 UTSA Blvd\, San Antonio\, TX\, 78249\, United States
CATEGORIES:Happy Hour,Shopping,Social
ATTACH;FMTTYPE=image/jpeg:https://dogfriendlysanantonio.com/wp-content/uploads/2022/03/chicken-n-pickle-doggie-days.jpeg
END:VEVENT
BEGIN:VEVENT
DTSTART;TZID=UTC:20250819T190000
DTEND;TZID=UTC:20250819T230000
DTSTAMP:20260424T144142
CREATED:20240104T225355Z
LAST-MODIFIED:20240104T225355Z
UID:26829-1755630000-1755644400@dogfriendlysanantonio.com
SUMMARY:Karaoke at Idle Beer
DESCRIPTION:Tuesday Karaoke Night at #IdleBrewing 🎶 Hosted by Irish Cowboy Productions Karaoke 🎶 Every Tuesday night starting at 7pm — sing your heart out and enjoy a cold beer!  Whether you’re a seasoned pro or a complete beginner\, everyone is welcome to join in on the fun.
URL:https://dogfriendlysanantonio.com/event/karaoke-at-idle-beer-2025-08-19/
LOCATION:Idle Beer Hall & Brewery\, 414 Brooklyn Ave
CATEGORIES:Happy Hour,Music
ATTACH;FMTTYPE=image/png:https://dogfriendlysanantonio.com/wp-content/uploads/2024/01/karaoke-idle-beer.png
END:VEVENT
BEGIN:VEVENT
DTSTART;TZID=UTC:20250816T090000
DTEND;TZID=UTC:20250816T130000
DTSTAMP:20260424T144142
CREATED:20220204T055045Z
LAST-MODIFIED:20220204T055045Z
UID:24159-1755334800-1755349200@dogfriendlysanantonio.com
SUMMARY:Pearl Farmers Market
DESCRIPTION:Saturdays markets are dedicated to our local farmers and ranchers. Find fresh produce and meat local to South Texas.
URL:https://dogfriendlysanantonio.com/event/pearl-farmers-market-4-2025-08-16/
LOCATION:The Historic Pearl
CATEGORIES:Shopping
END:VEVENT
BEGIN:VEVENT
DTSTART;TZID=UTC:20250813T180000
DTEND;TZID=UTC:20250813T210000
DTSTAMP:20260424T144142
CREATED:20220304T222423Z
LAST-MODIFIED:20220304T222423Z
UID:24162-1755108000-1755118800@dogfriendlysanantonio.com
SUMMARY:Doggie Days
DESCRIPTION:Pamper your pup every Wednesday at Chicken N Pickle! We will have the most  pawesome  local dog-centric vendors on site for you & your pup to explore.
URL:https://dogfriendlysanantonio.com/event/doggie-days-3-2025-08-13/
LOCATION:Chicken N Pickle\, 5215 UTSA Blvd\, San Antonio\, TX\, 78249\, United States
CATEGORIES:Happy Hour,Shopping,Social
ATTACH;FMTTYPE=image/jpeg:https://dogfriendlysanantonio.com/wp-content/uploads/2022/03/chicken-n-pickle-doggie-days.jpeg
END:VEVENT
BEGIN:VEVENT
DTSTART;TZID=UTC:20250812T190000
DTEND;TZID=UTC:20250812T230000
DTSTAMP:20260424T144142
CREATED:20240104T225355Z
LAST-MODIFIED:20240104T225355Z
UID:26828-1755025200-1755039600@dogfriendlysanantonio.com
SUMMARY:Karaoke at Idle Beer
DESCRIPTION:Tuesday Karaoke Night at #IdleBrewing 🎶 Hosted by Irish Cowboy Productions Karaoke 🎶 Every Tuesday night starting at 7pm — sing your heart out and enjoy a cold beer!  Whether you’re a seasoned pro or a complete beginner\, everyone is welcome to join in on the fun.
URL:https://dogfriendlysanantonio.com/event/karaoke-at-idle-beer-2025-08-12/
LOCATION:Idle Beer Hall & Brewery\, 414 Brooklyn Ave
CATEGORIES:Happy Hour,Music
ATTACH;FMTTYPE=image/png:https://dogfriendlysanantonio.com/wp-content/uploads/2024/01/karaoke-idle-beer.png
END:VEVENT
BEGIN:VEVENT
DTSTART;TZID=UTC:20250809T090000
DTEND;TZID=UTC:20250809T130000
DTSTAMP:20260424T144142
CREATED:20220204T055045Z
LAST-MODIFIED:20220204T055045Z
UID:23819-1754730000-1754744400@dogfriendlysanantonio.com
SUMMARY:Pearl Farmers Market
DESCRIPTION:Saturdays markets are dedicated to our local farmers and ranchers. Find fresh produce and meat local to South Texas.
URL:https://dogfriendlysanantonio.com/event/pearl-farmers-market-4-2025-08-09/
LOCATION:The Historic Pearl
CATEGORIES:Shopping
END:VEVENT
BEGIN:VEVENT
DTSTART;TZID=UTC:20250806T180000
DTEND;TZID=UTC:20250806T210000
DTSTAMP:20260424T144142
CREATED:20220304T222423Z
LAST-MODIFIED:20220304T222423Z
UID:23758-1754503200-1754514000@dogfriendlysanantonio.com
SUMMARY:Doggie Days
DESCRIPTION:Pamper your pup every Wednesday at Chicken N Pickle! We will have the most  pawesome  local dog-centric vendors on site for you & your pup to explore.
URL:https://dogfriendlysanantonio.com/event/doggie-days-3-2025-08-06/
LOCATION:Chicken N Pickle\, 5215 UTSA Blvd\, San Antonio\, TX\, 78249\, United States
CATEGORIES:Happy Hour,Shopping,Social
ATTACH;FMTTYPE=image/jpeg:https://dogfriendlysanantonio.com/wp-content/uploads/2022/03/chicken-n-pickle-doggie-days.jpeg
END:VEVENT
BEGIN:VEVENT
DTSTART;TZID=UTC:20250805T190000
DTEND;TZID=UTC:20250805T230000
DTSTAMP:20260424T144142
CREATED:20240104T225355Z
LAST-MODIFIED:20240104T225355Z
UID:26827-1754420400-1754434800@dogfriendlysanantonio.com
SUMMARY:Karaoke at Idle Beer
DESCRIPTION:Tuesday Karaoke Night at #IdleBrewing 🎶 Hosted by Irish Cowboy Productions Karaoke 🎶 Every Tuesday night starting at 7pm — sing your heart out and enjoy a cold beer!  Whether you’re a seasoned pro or a complete beginner\, everyone is welcome to join in on the fun.
URL:https://dogfriendlysanantonio.com/event/karaoke-at-idle-beer-2025-08-05/
LOCATION:Idle Beer Hall & Brewery\, 414 Brooklyn Ave
CATEGORIES:Happy Hour,Music
ATTACH;FMTTYPE=image/png:https://dogfriendlysanantonio.com/wp-content/uploads/2024/01/karaoke-idle-beer.png
END:VEVENT
BEGIN:VEVENT
DTSTART;TZID=UTC:20250802T090000
DTEND;TZID=UTC:20250802T130000
DTSTAMP:20260424T144142
CREATED:20220204T055045Z
LAST-MODIFIED:20220204T055045Z
UID:23697-1754125200-1754139600@dogfriendlysanantonio.com
SUMMARY:Pearl Farmers Market
DESCRIPTION:Saturdays markets are dedicated to our local farmers and ranchers. Find fresh produce and meat local to South Texas.
URL:https://dogfriendlysanantonio.com/event/pearl-farmers-market-4-2025-08-02/
LOCATION:The Historic Pearl
CATEGORIES:Shopping
END:VEVENT
BEGIN:VEVENT
DTSTART;TZID=UTC:20250730T180000
DTEND;TZID=UTC:20250730T210000
DTSTAMP:20260424T144142
CREATED:20220304T222423Z
LAST-MODIFIED:20220304T222423Z
UID:23552-1753898400-1753909200@dogfriendlysanantonio.com
SUMMARY:Doggie Days
DESCRIPTION:Pamper your pup every Wednesday at Chicken N Pickle! We will have the most  pawesome  local dog-centric vendors on site for you & your pup to explore.
URL:https://dogfriendlysanantonio.com/event/doggie-days-3-2025-07-30/
LOCATION:Chicken N Pickle\, 5215 UTSA Blvd\, San Antonio\, TX\, 78249\, United States
CATEGORIES:Happy Hour,Shopping,Social
ATTACH;FMTTYPE=image/jpeg:https://dogfriendlysanantonio.com/wp-content/uploads/2022/03/chicken-n-pickle-doggie-days.jpeg
END:VEVENT
BEGIN:VEVENT
DTSTART;TZID=UTC:20250729T190000
DTEND;TZID=UTC:20250729T230000
DTSTAMP:20260424T144142
CREATED:20240104T225355Z
LAST-MODIFIED:20240104T225355Z
UID:26826-1753815600-1753830000@dogfriendlysanantonio.com
SUMMARY:Karaoke at Idle Beer
DESCRIPTION:Tuesday Karaoke Night at #IdleBrewing 🎶 Hosted by Irish Cowboy Productions Karaoke 🎶 Every Tuesday night starting at 7pm — sing your heart out and enjoy a cold beer!  Whether you’re a seasoned pro or a complete beginner\, everyone is welcome to join in on the fun.
URL:https://dogfriendlysanantonio.com/event/karaoke-at-idle-beer-2025-07-29/
LOCATION:Idle Beer Hall & Brewery\, 414 Brooklyn Ave
CATEGORIES:Happy Hour,Music
ATTACH;FMTTYPE=image/png:https://dogfriendlysanantonio.com/wp-content/uploads/2024/01/karaoke-idle-beer.png
END:VEVENT
BEGIN:VEVENT
DTSTART;TZID=UTC:20250726T090000
DTEND;TZID=UTC:20250726T130000
DTSTAMP:20260424T144142
CREATED:20220204T055045Z
LAST-MODIFIED:20220204T055045Z
UID:23496-1753520400-1753534800@dogfriendlysanantonio.com
SUMMARY:Pearl Farmers Market
DESCRIPTION:Saturdays markets are dedicated to our local farmers and ranchers. Find fresh produce and meat local to South Texas.
URL:https://dogfriendlysanantonio.com/event/pearl-farmers-market-4-2025-07-26/
LOCATION:The Historic Pearl
CATEGORIES:Shopping
END:VEVENT
BEGIN:VEVENT
DTSTART;TZID=UTC:20250723T180000
DTEND;TZID=UTC:20250723T210000
DTSTAMP:20260424T144142
CREATED:20220304T222423Z
LAST-MODIFIED:20220304T222423Z
UID:23409-1753293600-1753304400@dogfriendlysanantonio.com
SUMMARY:Doggie Days
DESCRIPTION:Pamper your pup every Wednesday at Chicken N Pickle! We will have the most  pawesome  local dog-centric vendors on site for you & your pup to explore.
URL:https://dogfriendlysanantonio.com/event/doggie-days-3-2025-07-23/
LOCATION:Chicken N Pickle\, 5215 UTSA Blvd\, San Antonio\, TX\, 78249\, United States
CATEGORIES:Happy Hour,Shopping,Social
ATTACH;FMTTYPE=image/jpeg:https://dogfriendlysanantonio.com/wp-content/uploads/2022/03/chicken-n-pickle-doggie-days.jpeg
END:VEVENT
BEGIN:VEVENT
DTSTART;TZID=UTC:20250722T190000
DTEND;TZID=UTC:20250722T230000
DTSTAMP:20260424T144142
CREATED:20240104T225355Z
LAST-MODIFIED:20240104T225355Z
UID:26825-1753210800-1753225200@dogfriendlysanantonio.com
SUMMARY:Karaoke at Idle Beer
DESCRIPTION:Tuesday Karaoke Night at #IdleBrewing 🎶 Hosted by Irish Cowboy Productions Karaoke 🎶 Every Tuesday night starting at 7pm — sing your heart out and enjoy a cold beer!  Whether you’re a seasoned pro or a complete beginner\, everyone is welcome to join in on the fun.
URL:https://dogfriendlysanantonio.com/event/karaoke-at-idle-beer-2025-07-22/
LOCATION:Idle Beer Hall & Brewery\, 414 Brooklyn Ave
CATEGORIES:Happy Hour,Music
ATTACH;FMTTYPE=image/png:https://dogfriendlysanantonio.com/wp-content/uploads/2024/01/karaoke-idle-beer.png
END:VEVENT
END:VCALENDAR