BEGIN:VCALENDAR
VERSION:2.0
PRODID:-//The Dog Guide San Antonio - ECPv6.13.2.1//NONSGML v1.0//EN
CALSCALE:GREGORIAN
METHOD:PUBLISH
X-ORIGINAL-URL:https://dogfriendlysanantonio.com
X-WR-CALDESC:Events for The Dog Guide San Antonio
REFRESH-INTERVAL;VALUE=DURATION:PT1H
X-Robots-Tag:noindex
X-PUBLISHED-TTL:PT1H
BEGIN:VTIMEZONE
TZID:UTC
BEGIN:STANDARD
TZOFFSETFROM:+0000
TZOFFSETTO:+0000
TZNAME:UTC
DTSTART:20240101T000000
END:STANDARD
END:VTIMEZONE
BEGIN:VEVENT
DTSTART;TZID=UTC:20241124T113000
DTEND;TZID=UTC:20241124T123000
DTSTAMP:20260426T000553
CREATED:20241112T234654Z
LAST-MODIFIED:20241112T234654Z
UID:36869-1732447800-1732451400@dogfriendlysanantonio.com
SUMMARY:Puppy Yoga: Gratitude Puppy Yoga at Confluence Park With Mobile Om
DESCRIPTION:Calling all Yogis\, puppy lovers\, or BOTH!\nSNIPSA will be at Confluence Park for a rejuvenating yoga session led by Mobile Om. It’s a $15 donation to sign up\, and the proceeds go towards SNIPSA! The event will be held on Sunday\, November 24th\, 11:30 a.m.- 12:30 p.m. at 310 W Mitchell St.\, 78204.\nUnroll your mat alongside adorable adoptable puppies and support a great cause while enjoying the relaxing benefits of yoga. Find your Zen and save a friend! Sign up at the link.\n\nSunday\, November 24th11:30 a.m.- 12:30 p.m.Confluence Park310 W Mitchell St.\, 78204\nJoin here: https://mobileomtx.com/#join\nVOLUNTEER WITH SNIPSA: https://timecounts.app/…/4e1cd0b6-9de2-487f-ba50&#8230;
URL:https://dogfriendlysanantonio.com/event/puppy-yoga-gratitude-puppy-yoga-at-confluence-park-with-mobile-om/
LOCATION:Confluence Park\, 310 W Mitchell Street\, 78204
CATEGORIES:Fitness
ATTACH;FMTTYPE=image/jpeg:https://dogfriendlysanantonio.com/wp-content/uploads/2024/11/yoga.jpeg
END:VEVENT
BEGIN:VEVENT
DTSTART;TZID=UTC:20241123T110000
DTEND;TZID=UTC:20241123T150000
DTSTAMP:20260426T000553
CREATED:20241115T010924Z
LAST-MODIFIED:20241115T010924Z
UID:36911-1732359600-1732374000@dogfriendlysanantonio.com
SUMMARY:Whole Earth Provision Co. Adoption Event
DESCRIPTION:SNIPSA is coming to Whole Earth Provision Co. to showcase our adoptable pets! It’s a pawsome opportunity to meet your new best friend! Whether you’re ready to adopt or just want to support a great cause\, we would love to see you there. Learn about SNIPSA’s mission and how you can make a difference in the lives of San Antonio’s cats and dogs. \nWhole Earth Provision Co. is located at the Alamo Quarry Market. We hope to see you there!
URL:https://dogfriendlysanantonio.com/event/whole-earth-provision-co-adoption-event/
LOCATION:Whole Earth Provision Co.\, 255 E Basse Rd\, 78209
CATEGORIES:Adoption
ATTACH;FMTTYPE=image/png:https://dogfriendlysanantonio.com/wp-content/uploads/2024/11/b.png
END:VEVENT
BEGIN:VEVENT
DTSTART;TZID=UTC:20241123T110000
DTEND;TZID=UTC:20241123T130000
DTSTAMP:20260426T000553
CREATED:20241112T234211Z
LAST-MODIFIED:20241112T234211Z
UID:36866-1732359600-1732366800@dogfriendlysanantonio.com
SUMMARY:Puppies & Poses
DESCRIPTION:Do you love yoga? Puppies? Mimosas? Then join us on November 23 for a playful yoga class featuring adorable puppies from Charming Pet Rescue! Puppies will be practicing their socializing and napping right along side you while you get in a sweat shesh! Enjoy mimosas and puppy breath after class! Proceeds benefit Charming Pet Rescue. BYOMat\nhttps://www.eventbrite.com/…/puppies-poses-tickets&#8230;
URL:https://dogfriendlysanantonio.com/event/puppies-poses/
LOCATION:Train Anytime
CATEGORIES:Fitness
ATTACH;FMTTYPE=image/jpeg:https://dogfriendlysanantonio.com/wp-content/uploads/2024/11/poses.jpeg
END:VEVENT
BEGIN:VEVENT
DTSTART;TZID=UTC:20241123T090000
DTEND;TZID=UTC:20241123T130000
DTSTAMP:20260426T000553
CREATED:20220204T055045Z
LAST-MODIFIED:20220204T055045Z
UID:19874-1732352400-1732366800@dogfriendlysanantonio.com
SUMMARY:Pearl Farmers Market
DESCRIPTION:Saturdays markets are dedicated to our local farmers and ranchers. Find fresh produce and meat local to South Texas.
URL:https://dogfriendlysanantonio.com/event/pearl-farmers-market-4-2024-11-23/
LOCATION:The Historic Pearl
CATEGORIES:Shopping
END:VEVENT
BEGIN:VEVENT
DTSTART;TZID=UTC:20241120T180000
DTEND;TZID=UTC:20241120T210000
DTSTAMP:20260426T000553
CREATED:20220304T222423Z
LAST-MODIFIED:20220304T222423Z
UID:19881-1732125600-1732136400@dogfriendlysanantonio.com
SUMMARY:Doggie Days
DESCRIPTION:Pamper your pup every Wednesday at Chicken N Pickle! We will have the most  pawesome  local dog-centric vendors on site for you & your pup to explore.
URL:https://dogfriendlysanantonio.com/event/doggie-days-3-2024-11-20/
LOCATION:Chicken N Pickle\, 5215 UTSA Blvd\, San Antonio\, TX\, 78249\, United States
CATEGORIES:Happy Hour,Shopping,Social
ATTACH;FMTTYPE=image/jpeg:https://dogfriendlysanantonio.com/wp-content/uploads/2022/03/chicken-n-pickle-doggie-days.jpeg
END:VEVENT
BEGIN:VEVENT
DTSTART;TZID=UTC:20241119T190000
DTEND;TZID=UTC:20241119T230000
DTSTAMP:20260426T000553
CREATED:20240104T225355Z
LAST-MODIFIED:20240104T225355Z
UID:26790-1732042800-1732057200@dogfriendlysanantonio.com
SUMMARY:Karaoke at Idle Beer
DESCRIPTION:Tuesday Karaoke Night at #IdleBrewing 🎶 Hosted by Irish Cowboy Productions Karaoke 🎶 Every Tuesday night starting at 7pm — sing your heart out and enjoy a cold beer!  Whether you’re a seasoned pro or a complete beginner\, everyone is welcome to join in on the fun.
URL:https://dogfriendlysanantonio.com/event/karaoke-at-idle-beer-2024-11-19/
LOCATION:Idle Beer Hall & Brewery\, 414 Brooklyn Ave
CATEGORIES:Happy Hour,Music
ATTACH;FMTTYPE=image/png:https://dogfriendlysanantonio.com/wp-content/uploads/2024/01/karaoke-idle-beer.png
END:VEVENT
BEGIN:VEVENT
DTSTART;TZID=UTC:20241117T140000
DTEND;TZID=UTC:20241117T170000
DTSTAMP:20260426T000553
CREATED:20241112T233844Z
LAST-MODIFIED:20241112T233844Z
UID:36864-1731852000-1731862800@dogfriendlysanantonio.com
SUMMARY:A Doggo's Day Out
DESCRIPTION: Join us for A Doggo’s Day Out – A Free Event for You and Your Furry Friends! \n Date: Sunday\, November 17th Location: The Dog Co. Icehouse\, 4302 Hyatt Place\, San Antonio\, TX 78230\nCome enjoy a day filled with fun for both you and your pets! Bring your pup along for an exciting market and more\, featuring:\n Live Music– Sit back and relax with live tunes to set the vibe. Pet-Themed Market – Explore unique products and treats your dog will love Paint with Your Pet Class – Unleash your creativity with a paws-on art class! Tickets available!\nWhether you’re looking for a unique way to bond with your dog or simply enjoy a fun day out\, this event has something for everyone. Don’t miss it!\n All dogs welcome\, so bring the whole pack!\nMark your calendars and see you there!
URL:https://dogfriendlysanantonio.com/event/a-doggos-day-out/
LOCATION:The Dog Co. Icehouse\, 4302 Hyatt Place Dr\, San Antonio
CATEGORIES:Music
ATTACH;FMTTYPE=image/jpeg:https://dogfriendlysanantonio.com/wp-content/uploads/2024/11/doggo.jpeg
END:VEVENT
BEGIN:VEVENT
DTSTART;TZID=UTC:20241116T140000
DTEND;TZID=UTC:20241116T170000
DTSTAMP:20260426T000553
CREATED:20241115T010144Z
LAST-MODIFIED:20241115T010144Z
UID:36906-1731765600-1731776400@dogfriendlysanantonio.com
SUMMARY:Footbridge Foundation Off the Leash 2024
DESCRIPTION:We warmly invite you to an unforgettable afternoon at Footbridge Foundation’s Annual Off the Leash Fundraiser\, a celebration benefiting stray dogs and cats in San Antonio. This event is not just an afternoon of festivities; it’s an opportunity to make a meaningful difference in the lives of our city’s most vulnerable pets. \nWhy Your Presence Matters: Every Ticket purchased\, donation made\, and bid placed in our silent auction directly supports our spay-neuter clinic and rescue efforts\, which provides essential care to countless animals in need right in downtown San Antonio. By joining us\, you will experience an afternoon of excitement and community spirit contributing to a cause that truly impacts our city. We look forward to celebrating with you! \nWhat to Expect: \n\n\nA Memorable San Antonio Experience:Indulge in a culinary journey crafted by renowned Chef Johnny Hernandez\, a celebrated figure in San Antonio’s culinary scene. Chef Hernandez will present a vibrant array of botanas inspired by the rich traditions of Mexican cuisine. Savor two signature cocktails crafted by the talented mixologists of Casa Hernán Cantina. Enjoy a lively atmosphere featuring entertainment by DJ ANNALXG\, with our MC and special guest\, Roma Villavicencio\, host of Great Day SA on KENS 5\, along with inspiring stories from special friends and supporters. \n\n\nSilent Auction and Raffles: Bid on exciting items\, including a Farer watch\, a Texas Hill Country vacation\, a Max & Neo paddleboard\, Spurs tickets\, an original Gary Sweeney print\, Valero Alamo Bowl tickets\, and over 100 items generously donated by local businesses and supporters of the Footbridge Foundation. The auction will launch online 10 days prior to the event and will close at 4:30 pm on November 16th\, 30 minutes before the festivities conclude. \n\n\nExclusive VIP Area: This year\, we’re thrilled to introduce a brand-new VIP area located upstairs\, featuring a stunning outdoor balcony with breathtaking views of the San Antonio skyline. VIP guests will enjoy access to an exclusive cocktail bar and additional hors d’oeuvres\, providing an opportunity to mingle with sponsors and key supporters. This special area\, once the personal residence of Chef Johnny\, has been graciously opened to enhance your experience and foster connections while making a meaningful impact on our cause. Don’t miss this unique opportunity to elevate your experience at our event! \n\nPurchase your tickets today. Thank you for your continued support and we look forward to seeing you at Off the Leash!
URL:https://dogfriendlysanantonio.com/event/footbridge-foundation-off-the-leash-2024/
LOCATION:Casa Hernán Cantina\, 411 E Cevallos St.\, San Antonio\, 78204
CATEGORIES:Causes,Fundraiser
ATTACH;FMTTYPE=image/png:https://dogfriendlysanantonio.com/wp-content/uploads/2024/11/foot.png
END:VEVENT
BEGIN:VEVENT
DTSTART;TZID=UTC:20241116T120000
DTEND;TZID=UTC:20241116T160000
DTSTAMP:20260426T000553
CREATED:20241115T010632Z
LAST-MODIFIED:20241115T010632Z
UID:36909-1731758400-1731772800@dogfriendlysanantonio.com
SUMMARY:Hops & Hounds Adoption Event
DESCRIPTION:Savor the paw-sitive vibes with a drink in one hand and a puppy in the other! Bring your pack and come see us at Hops & Hounds to meet some of our adoptable SNIPSA pups. You can’t go wrong with spending your weekend enjoying some brews and bites (and maybe even taking a new friend home with you). It’s guaranteed to be loads of furry fun!
URL:https://dogfriendlysanantonio.com/event/hops-hounds-adoption-event/
LOCATION:Hops & Hounds\, 1123 Ave. B\, San Antonio\, TX\, 78247
CATEGORIES:Adoption
ATTACH;FMTTYPE=image/png:https://dogfriendlysanantonio.com/wp-content/uploads/2024/11/a.png
END:VEVENT
BEGIN:VEVENT
DTSTART;TZID=UTC:20241116T090000
DTEND;TZID=UTC:20241116T130000
DTSTAMP:20260426T000553
CREATED:20220204T055045Z
LAST-MODIFIED:20220204T055045Z
UID:19873-1731747600-1731762000@dogfriendlysanantonio.com
SUMMARY:Pearl Farmers Market
DESCRIPTION:Saturdays markets are dedicated to our local farmers and ranchers. Find fresh produce and meat local to South Texas.
URL:https://dogfriendlysanantonio.com/event/pearl-farmers-market-4-2024-11-16/
LOCATION:The Historic Pearl
CATEGORIES:Shopping
END:VEVENT
BEGIN:VEVENT
DTSTART;TZID=UTC:20241113T180000
DTEND;TZID=UTC:20241113T210000
DTSTAMP:20260426T000553
CREATED:20220304T222423Z
LAST-MODIFIED:20220304T222423Z
UID:19158-1731520800-1731531600@dogfriendlysanantonio.com
SUMMARY:Doggie Days
DESCRIPTION:Pamper your pup every Wednesday at Chicken N Pickle! We will have the most  pawesome  local dog-centric vendors on site for you & your pup to explore.
URL:https://dogfriendlysanantonio.com/event/doggie-days-3-2024-11-13/
LOCATION:Chicken N Pickle\, 5215 UTSA Blvd\, San Antonio\, TX\, 78249\, United States
CATEGORIES:Happy Hour,Shopping,Social
ATTACH;FMTTYPE=image/jpeg:https://dogfriendlysanantonio.com/wp-content/uploads/2022/03/chicken-n-pickle-doggie-days.jpeg
END:VEVENT
BEGIN:VEVENT
DTSTART;TZID=UTC:20241113T090000
DTEND;TZID=UTC:20241113T230000
DTSTAMP:20260426T000553
CREATED:20241112T031607Z
LAST-MODIFIED:20241112T031607Z
UID:36827-1731488400-1731538800@dogfriendlysanantonio.com
SUMMARY:Howliday Dog photo Shoot
DESCRIPTION:Drop your pup off for daycare & let us capture them ready for your howliday memories!\nAll models must arrive to the Ranch by 9a to give our photographer plenty of time to capture all needed photos.Email reservations@weloveyourdog.net to get your model a spot!
URL:https://dogfriendlysanantonio.com/event/howliday-dog-photo-shoot/
LOCATION:Pawderosa Ranch Doggie Play and Stay (Airport)\, 923 Clydeville Rd\, San Antonio\, TX\, 78216\, United States
ATTACH;FMTTYPE=image/jpeg:https://dogfriendlysanantonio.com/wp-content/uploads/2024/11/photshoot.jpeg
END:VEVENT
BEGIN:VEVENT
DTSTART;TZID=UTC:20241112T190000
DTEND;TZID=UTC:20241112T230000
DTSTAMP:20260426T000553
CREATED:20240104T225355Z
LAST-MODIFIED:20240104T225355Z
UID:26789-1731438000-1731452400@dogfriendlysanantonio.com
SUMMARY:Karaoke at Idle Beer
DESCRIPTION:Tuesday Karaoke Night at #IdleBrewing 🎶 Hosted by Irish Cowboy Productions Karaoke 🎶 Every Tuesday night starting at 7pm — sing your heart out and enjoy a cold beer!  Whether you’re a seasoned pro or a complete beginner\, everyone is welcome to join in on the fun.
URL:https://dogfriendlysanantonio.com/event/karaoke-at-idle-beer-2024-11-12/
LOCATION:Idle Beer Hall & Brewery\, 414 Brooklyn Ave
CATEGORIES:Happy Hour,Music
ATTACH;FMTTYPE=image/png:https://dogfriendlysanantonio.com/wp-content/uploads/2024/01/karaoke-idle-beer.png
END:VEVENT
BEGIN:VEVENT
DTSTART;TZID=UTC:20241110T173000
DTEND;TZID=UTC:20241110T200000
DTSTAMP:20260426T000553
CREATED:20241014T205016Z
LAST-MODIFIED:20241014T205034Z
UID:35808-1731259800-1731268800@dogfriendlysanantonio.com
SUMMARY:A Dogs Purpose\, Tower of the Americas
DESCRIPTION:Grab a blanket and enjoy a family-friendly motion picture under the stars!\nJoin us at the Base of the Tower for a FREE movie with food and drinks available for purchase.\n– Movies start at Sunset –
URL:https://dogfriendlysanantonio.com/event/a-dogs-purpose-tower-of-the-americas/
LOCATION:Tower of the Americas\, 739 E Cesar Chavez\, San Antonio\, TX\, 78205\, United States
ATTACH;FMTTYPE=image/jpeg:https://dogfriendlysanantonio.com/wp-content/uploads/2024/10/a-dogs-purpose.jpeg
END:VEVENT
BEGIN:VEVENT
DTSTART;TZID=UTC:20241109T090000
DTEND;TZID=UTC:20241109T130000
DTSTAMP:20260426T000553
CREATED:20220204T055045Z
LAST-MODIFIED:20220204T055045Z
UID:19107-1731142800-1731157200@dogfriendlysanantonio.com
SUMMARY:Pearl Farmers Market
DESCRIPTION:Saturdays markets are dedicated to our local farmers and ranchers. Find fresh produce and meat local to South Texas.
URL:https://dogfriendlysanantonio.com/event/pearl-farmers-market-4-2024-11-09/
LOCATION:The Historic Pearl
CATEGORIES:Shopping
END:VEVENT
BEGIN:VEVENT
DTSTART;TZID=UTC:20241108T120000
DTEND;TZID=UTC:20241108T170000
DTSTAMP:20260426T000553
CREATED:20241112T235541Z
LAST-MODIFIED:20241112T235541Z
UID:36873-1731067200-1731085200@dogfriendlysanantonio.com
SUMMARY:Holly Doggy Costume Contest
DESCRIPTION:Heritage Festivals of San Antonio Presents the Holly Doggy Costume contest! Dress up your pups\, and register by 11:30am on December 8th to compete in 4 fun categories: Most Original\, Fan Favorite\, Best Holiday\, and Best Winter!\nThis event is part of the Joy to the World Festival\, in conjunction with Pet Food Collection by DaisyCares.org
URL:https://dogfriendlysanantonio.com/event/holly-doggy-costume-contest/
CATEGORIES:Holidays
ATTACH;FMTTYPE=image/jpeg:https://dogfriendlysanantonio.com/wp-content/uploads/2024/11/holly.jpeg
END:VEVENT
BEGIN:VEVENT
DTSTART;TZID=UTC:20241106T180000
DTEND;TZID=UTC:20241106T210000
DTSTAMP:20260426T000553
CREATED:20220304T222423Z
LAST-MODIFIED:20220304T222423Z
UID:19051-1730916000-1730926800@dogfriendlysanantonio.com
SUMMARY:Doggie Days
DESCRIPTION:Pamper your pup every Wednesday at Chicken N Pickle! We will have the most  pawesome  local dog-centric vendors on site for you & your pup to explore.
URL:https://dogfriendlysanantonio.com/event/doggie-days-3-2024-11-06/
LOCATION:Chicken N Pickle\, 5215 UTSA Blvd\, San Antonio\, TX\, 78249\, United States
CATEGORIES:Happy Hour,Shopping,Social
ATTACH;FMTTYPE=image/jpeg:https://dogfriendlysanantonio.com/wp-content/uploads/2022/03/chicken-n-pickle-doggie-days.jpeg
END:VEVENT
BEGIN:VEVENT
DTSTART;TZID=UTC:20241105T190000
DTEND;TZID=UTC:20241105T230000
DTSTAMP:20260426T000553
CREATED:20240104T225355Z
LAST-MODIFIED:20240104T225355Z
UID:26788-1730833200-1730847600@dogfriendlysanantonio.com
SUMMARY:Karaoke at Idle Beer
DESCRIPTION:Tuesday Karaoke Night at #IdleBrewing 🎶 Hosted by Irish Cowboy Productions Karaoke 🎶 Every Tuesday night starting at 7pm — sing your heart out and enjoy a cold beer!  Whether you’re a seasoned pro or a complete beginner\, everyone is welcome to join in on the fun.
URL:https://dogfriendlysanantonio.com/event/karaoke-at-idle-beer-2024-11-05/
LOCATION:Idle Beer Hall & Brewery\, 414 Brooklyn Ave
CATEGORIES:Happy Hour,Music
ATTACH;FMTTYPE=image/png:https://dogfriendlysanantonio.com/wp-content/uploads/2024/01/karaoke-idle-beer.png
END:VEVENT
BEGIN:VEVENT
DTSTART;TZID=UTC:20241102T090000
DTEND;TZID=UTC:20241102T130000
DTSTAMP:20260426T000553
CREATED:20220204T055045Z
LAST-MODIFIED:20220204T055045Z
UID:19001-1730538000-1730552400@dogfriendlysanantonio.com
SUMMARY:Pearl Farmers Market
DESCRIPTION:Saturdays markets are dedicated to our local farmers and ranchers. Find fresh produce and meat local to South Texas.
URL:https://dogfriendlysanantonio.com/event/pearl-farmers-market-4-2024-11-02/
LOCATION:The Historic Pearl
CATEGORIES:Shopping
END:VEVENT
BEGIN:VEVENT
DTSTART;TZID=UTC:20241031T170000
DTEND;TZID=UTC:20241031T200000
DTSTAMP:20260426T000553
CREATED:20241017T033309Z
LAST-MODIFIED:20241017T033309Z
UID:35983-1730394000-1730404800@dogfriendlysanantonio.com
SUMMARY:Howl-O-Ween Dog Costume Contest
DESCRIPTION:Get ready for a spooktacular Halloween celebration at Rock & Brews! We’re turning our love for pets and all things rock into a Howl-O-Ween Costume Contest that’s sure to get tails wagging. Dress up your furry friend in their Halloween best for a chance to win pawsome prizes! \nCostume categories: “Best Rock Star\,” “Cutest Monster\,” and “Most Creative”\nPrizes: $25 Rock & Brews gift card + bandana
URL:https://dogfriendlysanantonio.com/event/howl-o-ween-dog-costume-contest/
LOCATION:5702 Landmark Pkwy\, San Antonio\, TX\, United States\, Texas 78249
CATEGORIES:Holidays
ATTACH;FMTTYPE=image/jpeg:https://dogfriendlysanantonio.com/wp-content/uploads/2024/10/costume-contest.jpeg
END:VEVENT
BEGIN:VEVENT
DTSTART;TZID=UTC:20241030T180000
DTEND;TZID=UTC:20241030T210000
DTSTAMP:20260426T000553
CREATED:20220304T222423Z
LAST-MODIFIED:20220304T222423Z
UID:18955-1730311200-1730322000@dogfriendlysanantonio.com
SUMMARY:Doggie Days
DESCRIPTION:Pamper your pup every Wednesday at Chicken N Pickle! We will have the most  pawesome  local dog-centric vendors on site for you & your pup to explore.
URL:https://dogfriendlysanantonio.com/event/doggie-days-3-2024-10-30/
LOCATION:Chicken N Pickle\, 5215 UTSA Blvd\, San Antonio\, TX\, 78249\, United States
CATEGORIES:Happy Hour,Shopping,Social
ATTACH;FMTTYPE=image/jpeg:https://dogfriendlysanantonio.com/wp-content/uploads/2022/03/chicken-n-pickle-doggie-days.jpeg
END:VEVENT
BEGIN:VEVENT
DTSTART;TZID=UTC:20241029T190000
DTEND;TZID=UTC:20241029T230000
DTSTAMP:20260426T000553
CREATED:20240104T225355Z
LAST-MODIFIED:20240104T225355Z
UID:26787-1730228400-1730242800@dogfriendlysanantonio.com
SUMMARY:Karaoke at Idle Beer
DESCRIPTION:Tuesday Karaoke Night at #IdleBrewing 🎶 Hosted by Irish Cowboy Productions Karaoke 🎶 Every Tuesday night starting at 7pm — sing your heart out and enjoy a cold beer!  Whether you’re a seasoned pro or a complete beginner\, everyone is welcome to join in on the fun.
URL:https://dogfriendlysanantonio.com/event/karaoke-at-idle-beer-2024-10-29/
LOCATION:Idle Beer Hall & Brewery\, 414 Brooklyn Ave
CATEGORIES:Happy Hour,Music
ATTACH;FMTTYPE=image/png:https://dogfriendlysanantonio.com/wp-content/uploads/2024/01/karaoke-idle-beer.png
END:VEVENT
BEGIN:VEVENT
DTSTART;TZID=UTC:20241027T120000
DTEND;TZID=UTC:20241027T210000
DTSTAMP:20260426T000553
CREATED:20241017T200558Z
LAST-MODIFIED:20241017T200558Z
UID:36033-1730030400-1730062800@dogfriendlysanantonio.com
SUMMARY:Día de los Muertos at Hemisfair
DESCRIPTION:Día de los Muertos\, San Antonio’s beloved\, cultural event. Muertos Fest returns to Hemisfair for it’s 12th year of celebration with a two-day\, in-person festival on Oct 26 and 27. Experience. Enjoy. Remember. Our loved ones are still with us at Día de los Muertos.
URL:https://dogfriendlysanantonio.com/event/dia-de-los-muertos-at-hemisfair-2/
LOCATION:Hemisfair
CATEGORIES:Fiesta,Holidays,Parks
ATTACH;FMTTYPE=image/jpeg:https://dogfriendlysanantonio.com/wp-content/uploads/2024/10/pexels-vanessa-pozos-3368660-13629750.jpg
END:VEVENT
BEGIN:VEVENT
DTSTART;TZID=UTC:20241027T090000
DTEND;TZID=UTC:20241027T170000
DTSTAMP:20260426T000553
CREATED:20241002T032724Z
LAST-MODIFIED:20241002T032724Z
UID:34918-1730019600-1730048400@dogfriendlysanantonio.com
SUMMARY:Dog Day: Trick-or-Tail
DESCRIPTION:Get ready for a Trick-or-Tails adventure at San Antonio Zoo’s Halloween Dog Day on Sunday\, October 27th\, from 9:00 a.m. to 5:00 p.m.! Bring your furry friend for a WILD day of fun\, featuring a dog costume contest from 11:30 a.m. – 12:00 p.m. in Zootennial Plaza\, and dog trick-or-treating from 1:30 p.m. – 2:30 p.m. at designated stations throughout the zoo where your pup can collect tasty treats.\n\nCostumes are highly encouraged for both pets and humans!\n\nTo join the Trick-or-Tails fun\, purchase a $27.99 Dog Day Ticket per dog\, in addition to your zoo admission or Membership.\n\nIt’s going to be a howling good time\, so mark your calendars and bring your pup for a fun-filled\, tail-wagging celebration!
URL:https://dogfriendlysanantonio.com/event/dog-day-trick-or-tail/
LOCATION:San Antonio Zoo
CATEGORIES:Holidays,Nonprofit
ATTACH;FMTTYPE=image/jpeg:https://dogfriendlysanantonio.com/wp-content/uploads/2024/10/trick-or-trail.jpg
END:VEVENT
BEGIN:VEVENT
DTSTART;TZID=UTC:20241026T110000
DTEND;TZID=UTC:20241026T193000
DTSTAMP:20260426T000553
CREATED:20241014T203337Z
LAST-MODIFIED:20241014T203337Z
UID:35802-1729940400-1729971000@dogfriendlysanantonio.com
SUMMARY:Dogtober Fall Festival
DESCRIPTION:Bark your calendars for Dogtober! \nEnjoy fall favorites\, including a pet-friendly pumpkin patch\, live music\, delicious food trucks\, pet costume contest\, a fall-themed 40+ vendor market\, and a shelter pup parade!! \nDelight in unique activities like “Read to a Cat”\, Dog Trick shows\, Puppies and Pilates classes\, tons of family-friendly activities\, and our exciting “Passport 4 Paws” program\, letting you take a shelter dog on fun adventures throughout festival grounds. With agility challenges\, a puppuccino zone\, and more\, it’s the perfect day for family\, furry friends\, and adopting your new best buddy! \nFree Event \n$25 Early Access Pass starting at 9:30am | saacs.info/earlyaccess \n*Prizes for the first 10 adoptions\, including a Wisdom Panel DNA kit! \n*Free Parking + Overflow Parking including complimentary trolley transportation service.*
URL:https://dogfriendlysanantonio.com/event/dogtober-fall-festival/
LOCATION:San Antonio Animal Care Services\, 4710 State Highway 151\, San Antonio\, TX\, 78227\, United States
CATEGORIES:Adoption,Holidays,Social
ATTACH;FMTTYPE=image/jpeg:https://dogfriendlysanantonio.com/wp-content/uploads/2024/10/Dogtober-Event-Graphic-1080x1080-1.jpeg
END:VEVENT
BEGIN:VEVENT
DTSTART;TZID=UTC:20241026T100000
DTEND;TZID=UTC:20241026T230000
DTSTAMP:20260426T000553
CREATED:20241017T200215Z
LAST-MODIFIED:20241024T172618Z
UID:36030-1729936800-1729983600@dogfriendlysanantonio.com
SUMMARY:Día de los Muertos at Hemisfair
DESCRIPTION:Día de los Muertos\, San Antonio’s beloved\, cultural event. Muertos Fest returns to Hemisfair for it’s 12th year of celebration with a two-day\, in-person festival on Oct 26 and 27. Experience. Enjoy. Remember. Our loved ones are still with us at Día de los Muertos.
URL:https://dogfriendlysanantonio.com/event/dia-de-los-muertos-at-hemisfair/
LOCATION:Hemisfair
CATEGORIES:Holidays,Parks
ATTACH;FMTTYPE=image/jpeg:https://dogfriendlysanantonio.com/wp-content/uploads/2024/10/pexels-vanessa-pozos-3368660-13629750.jpg
END:VEVENT
BEGIN:VEVENT
DTSTART;TZID=UTC:20241026T100000
DTEND;TZID=UTC:20241026T150000
DTSTAMP:20260426T000553
CREATED:20240930T005125Z
LAST-MODIFIED:20240930T005125Z
UID:34797-1729936800-1729954800@dogfriendlysanantonio.com
SUMMARY:Spooktacular October Vendor Market- Pet-Friendly Event
DESCRIPTION: **Join Us for Our Booth-or -Treat Vendor Market!** \nGet ready for a spooktacular time with lots of candy to be given away!  Pony rides\,  live music\,  face painting\,  balloons\, amazing vendors\, delicious food\, and so much more await you!\nBring your family\, friends\, and pets for a festive day of fun and excitement. Let’s make this a memorable event for the whole community!\n **Date:** 10/26/2024 **Location:** 6800 Wurzbach Rd.\nDon’t miss out on the fun – see you there! 
URL:https://dogfriendlysanantonio.com/event/spooktacular-october-vendor-market-pet-friendly-event/
LOCATION:Trader Town’s Country Market
CATEGORIES:Holidays,Music,Shopping,Social
ATTACH;FMTTYPE=image/jpeg:https://dogfriendlysanantonio.com/wp-content/uploads/2024/09/Market.jpeg
END:VEVENT
BEGIN:VEVENT
DTSTART;TZID=UTC:20241026T090000
DTEND;TZID=UTC:20241026T160000
DTSTAMP:20260426T000553
CREATED:20241002T033455Z
LAST-MODIFIED:20241002T033604Z
UID:34924-1729933200-1729958400@dogfriendlysanantonio.com
SUMMARY:Pet Pawlooza
DESCRIPTION:Come out and join the fun with a costume contest for your pets\, vendor booths\, food trucks\, so much more exciting things planned by the Humane Society of Live Oak!
URL:https://dogfriendlysanantonio.com/event/pet-pawlooza/
LOCATION:Live Oak Swimming Pool
CATEGORIES:Holidays
ATTACH;FMTTYPE=image/jpeg:https://dogfriendlysanantonio.com/wp-content/uploads/2024/10/Screen-Shot-2024-10-01-at-10.32.51-PM.jpg
END:VEVENT
BEGIN:VEVENT
DTSTART;TZID=UTC:20241026T090000
DTEND;TZID=UTC:20241026T130000
DTSTAMP:20260426T000553
CREATED:20220204T055045Z
LAST-MODIFIED:20220204T055045Z
UID:18914-1729933200-1729947600@dogfriendlysanantonio.com
SUMMARY:Pearl Farmers Market
DESCRIPTION:Saturdays markets are dedicated to our local farmers and ranchers. Find fresh produce and meat local to South Texas.
URL:https://dogfriendlysanantonio.com/event/pearl-farmers-market-4-2024-10-26/
LOCATION:The Historic Pearl
CATEGORIES:Shopping
END:VEVENT
BEGIN:VEVENT
DTSTART;TZID=UTC:20241026T080000
DTEND;TZID=UTC:20241227T170000
DTSTAMP:20260426T000553
CREATED:20241115T011342Z
LAST-MODIFIED:20241115T011433Z
UID:36913-1729929600-1735318800@dogfriendlysanantonio.com
SUMMARY:"IT'S ALL ABOUT LOVE"
DESCRIPTION:Greller Gallery presents “IT’S ALL ABOUT LOVE” by local artist\, Patti Schermerhorn. This is a 28-piece painting series inspired by love and kindness for our animals\, community\, and each other. Proceeds from this exhibition support SNIPSA’s rescue mission in San Antonio\, Texas. To learn more or purchase a piece of art\, please visit the link below. \nPlease note this exhibit is not dog friendly but it does benefit them!
URL:https://dogfriendlysanantonio.com/event/its-all-about-love/
LOCATION:SAVS\, 4522 De Zavala Rd.\, San Antonio\, 78249
CATEGORIES:Arts
ATTACH;FMTTYPE=image/png:https://dogfriendlysanantonio.com/wp-content/uploads/2024/11/d.png
END:VEVENT
END:VCALENDAR