BEGIN:VCALENDAR
VERSION:2.0
PRODID:-//The Dog Guide San Antonio - ECPv6.13.2.1//NONSGML v1.0//EN
CALSCALE:GREGORIAN
METHOD:PUBLISH
X-ORIGINAL-URL:https://dogfriendlysanantonio.com
X-WR-CALDESC:Events for The Dog Guide San Antonio
REFRESH-INTERVAL;VALUE=DURATION:PT1H
X-Robots-Tag:noindex
X-PUBLISHED-TTL:PT1H
BEGIN:VTIMEZONE
TZID:UTC
BEGIN:STANDARD
TZOFFSETFROM:+0000
TZOFFSETTO:+0000
TZNAME:UTC
DTSTART:20240101T000000
END:STANDARD
END:VTIMEZONE
BEGIN:VEVENT
DTSTART;TZID=UTC:20241214T123000
DTEND;TZID=UTC:20241214T150000
DTSTAMP:20260425T204754
CREATED:20241123T171312Z
LAST-MODIFIED:20241123T171312Z
UID:37207-1734179400-1734188400@dogfriendlysanantonio.com
SUMMARY:Adoption Event @ Pet Smart 281 & Bitters
DESCRIPTION:Meet us at PetSmart 281 & Bittersfor a day of wonderful adoptions!\nSaturday\, December 14\, 202412 pm – 3 pm
URL:https://dogfriendlysanantonio.com/event/adoption-event-pet-smart-281-bitters/
LOCATION:Pet Smart
CATEGORIES:Adoption
ATTACH;FMTTYPE=image/jpeg:https://dogfriendlysanantonio.com/wp-content/uploads/2024/11/j.jpeg
END:VEVENT
BEGIN:VEVENT
DTSTART;TZID=UTC:20241214T110000
DTEND;TZID=UTC:20250115T170000
DTSTAMP:20260425T204754
CREATED:20241123T171846Z
LAST-MODIFIED:20241123T171846Z
UID:37210-1734174000-1736960400@dogfriendlysanantonio.com
SUMMARY:Home For The Howlidays Pet Adoption
DESCRIPTION: Deck the paws this holiday season at our Home for the Howlidays Adoption Fair & Holiday Market! This fur-tastic event will be bursting with festive cheer and the perfect opportunity to find your new four-legged family member while enjoying all the joys of the season.\nEvent Activities\n Photos with Santa Pet Adoptions Hot Cocoa Station Winter Photo Ops Family “Reindeer” Games Holiday Vendor Market Live Music & Food Trucks Pawteria\n\nSpecial Programming \n Holiday Performances by Hawthrown Academy\n San Antonio’s first snowfall of the season – guaranteed!\n Appearance by La Grinch-a\n Read to a Cat programming: check out a holiday-themed book and enjoy reading to shelter cats in Kitty City.\n Passport 4 Paws: Take a shelter dog out to explore our event\, try our agility course\, enjoy a puppuccino\, and so much more!\n\nAll ACS Pet Adoptions will Include– 1st round of vaccinations– 1st month of Flea\, tick\, and heartworm prevention– Spay/Neuter Surgery– Lifetime pet training support– Pet beds for the first 100 adoptions!\n\n—–\n For vendor opportunities\, please sign up at: saacs.info/hfhvendor
URL:https://dogfriendlysanantonio.com/event/home-for-the-howlidays-pet-adoption/
LOCATION:4710 state Hwy 151
CATEGORIES:Adoption,Holidays
ATTACH;FMTTYPE=image/jpeg:https://dogfriendlysanantonio.com/wp-content/uploads/2024/11/k.jpeg
END:VEVENT
BEGIN:VEVENT
DTSTART;TZID=UTC:20241214T110000
DTEND;TZID=UTC:20241214T150000
DTSTAMP:20260425T204754
CREATED:20241204T050856Z
LAST-MODIFIED:20241204T051125Z
UID:37427-1734174000-1734188400@dogfriendlysanantonio.com
SUMMARY:Santa Paws Parade at the Downtown Dog Market
DESCRIPTION: Calling all dog lovers!\n Bring your furry friends to The Dog Guide San Antonio’s 5th annual Santa Paws Parade at Downtown Dog Market with Make Ready! This FREE\, dog-friendly event runs from 11 AM to 3 PM and is a perfect outing to enjoy with your pup.\n Get ready for a festive day of holiday-themed fun\, complete with the return of our Santa Paws Parade and costume contest (details below)!\n Don’t miss out on our lineup of local vendors offering unique dog-friendly goods! From handmade bandanas to treats\, you’ll find something special for your furry friend while supporting local businesses in the dog-loving community.\n FREE parking is available at the Make Ready lot\, located at 827 Broadway\, for registered attendees.\n Interested in being a vendor? Fill out our vendor application form here.\n Want to become an event partner? Email amy@thedogguide.com.____________________\n  Santa Paws Parade & Dog Costume Contest Info:\nEarly bird costume contest entry is just $5 thru Nov. 30.\nSanta Paws Parade check-in/registration will be open from 11:00 AM – 1:30 PM on event day\, with the parade kicking off at 2 PM.\nWinners of the costume contest will be announced promptly afterward.\nCostume categories include Best Ugly Christmas Sweater\, Best Doggy-Owner Duo\, and Best in Show. Group costumes count as a single contest entry.\n Costume Contest Rules:– Contestants must register dog(s) online or in-person by 1:30 PM on event day.– Pairs or groups may be registered as a team but will only count as one entry.– All dogs must be on leash.– Dogs must be under voice control at all times.– Dogs must be up to date on their vaccinations.\nAwards will be given for Best Ugly Christmas Sweater\, Best Doggy-Owner Duo\, and Best in Show.
URL:https://dogfriendlysanantonio.com/event/santa-paws-parade-at-the-downtown-dog-market/
LOCATION:Make Ready\, 203 8th Street
CATEGORIES:Holidays
ATTACH;FMTTYPE=image/jpeg:https://dogfriendlysanantonio.com/wp-content/uploads/2024/12/santa-paws-parade-eventbrite-1920-x-1080-px.jpg
END:VEVENT
BEGIN:VEVENT
DTSTART;TZID=UTC:20241214T090000
DTEND;TZID=UTC:20241214T130000
DTSTAMP:20260425T204754
CREATED:20220204T055045Z
LAST-MODIFIED:20220204T055045Z
UID:19877-1734166800-1734181200@dogfriendlysanantonio.com
SUMMARY:Pearl Farmers Market
DESCRIPTION:Saturdays markets are dedicated to our local farmers and ranchers. Find fresh produce and meat local to South Texas.
URL:https://dogfriendlysanantonio.com/event/pearl-farmers-market-4-2024-12-14/
LOCATION:The Historic Pearl
CATEGORIES:Shopping
END:VEVENT
BEGIN:VEVENT
DTSTART;TZID=UTC:20241211T180000
DTEND;TZID=UTC:20241211T210000
DTSTAMP:20260425T204754
CREATED:20220304T222423Z
LAST-MODIFIED:20220304T222423Z
UID:19884-1733940000-1733950800@dogfriendlysanantonio.com
SUMMARY:Doggie Days
DESCRIPTION:Pamper your pup every Wednesday at Chicken N Pickle! We will have the most  pawesome  local dog-centric vendors on site for you & your pup to explore.
URL:https://dogfriendlysanantonio.com/event/doggie-days-3-2024-12-11/
LOCATION:Chicken N Pickle\, 5215 UTSA Blvd\, San Antonio\, TX\, 78249\, United States
CATEGORIES:Happy Hour,Shopping,Social
ATTACH;FMTTYPE=image/jpeg:https://dogfriendlysanantonio.com/wp-content/uploads/2022/03/chicken-n-pickle-doggie-days.jpeg
END:VEVENT
BEGIN:VEVENT
DTSTART;TZID=UTC:20241210T190000
DTEND;TZID=UTC:20241210T230000
DTSTAMP:20260425T204754
CREATED:20240104T225355Z
LAST-MODIFIED:20240104T225355Z
UID:26793-1733857200-1733871600@dogfriendlysanantonio.com
SUMMARY:Karaoke at Idle Beer
DESCRIPTION:Tuesday Karaoke Night at #IdleBrewing 🎶 Hosted by Irish Cowboy Productions Karaoke 🎶 Every Tuesday night starting at 7pm — sing your heart out and enjoy a cold beer!  Whether you’re a seasoned pro or a complete beginner\, everyone is welcome to join in on the fun.
URL:https://dogfriendlysanantonio.com/event/karaoke-at-idle-beer-2024-12-10/
LOCATION:Idle Beer Hall & Brewery\, 414 Brooklyn Ave
CATEGORIES:Happy Hour,Music
ATTACH;FMTTYPE=image/png:https://dogfriendlysanantonio.com/wp-content/uploads/2024/01/karaoke-idle-beer.png
END:VEVENT
BEGIN:VEVENT
DTSTART;TZID=UTC:20241209T170000
DTEND;TZID=UTC:20241209T190000
DTSTAMP:20260425T204754
CREATED:20241123T215420Z
LAST-MODIFIED:20241123T215702Z
UID:37222-1733763600-1733770800@dogfriendlysanantonio.com
SUMMARY:Movie Mondays\, The Polar Express (The Historic Pearl)
DESCRIPTION:This season\, enjoy FREE movies at The Historic Pearl in Pearl Park. Bring your blankets\, lawn chairs\, snacks and picnics for an unforgettable outdoor experience. Movies start approximately at sunset.
URL:https://dogfriendlysanantonio.com/event/movie-mondays-the-polar-express-the-historic-pearl/
LOCATION:The Historic Pearl
ATTACH;FMTTYPE=image/webp:https://dogfriendlysanantonio.com/wp-content/uploads/2024/11/k-1.webp
END:VEVENT
BEGIN:VEVENT
DTSTART;TZID=UTC:20241209T110000
DTEND;TZID=UTC:20241209T200000
DTSTAMP:20260425T204754
CREATED:20241205T054737Z
LAST-MODIFIED:20241205T054737Z
UID:37486-1733742000-1733774400@dogfriendlysanantonio.com
SUMMARY:Pet Photos with Santa
DESCRIPTION:Santa has set aside some time dedicated to your four-legged friends so you can come capture magical holiday photos solo or with the whole family! Mix and mingle with other pet lovers while your furry friend takes a paw-satively adorable photo with Santa.\nMonday\, November 18 and 25 all day\nMonday\, December 2\, 9\, 16 and 23 all day
URL:https://dogfriendlysanantonio.com/event/pet-photos-with-santa-5-2024-12-09/
LOCATION:Ingram Park Mall\, 3218 Wurzbach Rd\, 78238
CATEGORIES:Holidays
ATTACH;FMTTYPE=image/jpeg:https://dogfriendlysanantonio.com/wp-content/uploads/2024/12/pet-photos-with-santa.jpg
END:VEVENT
BEGIN:VEVENT
DTSTART;TZID=UTC:20241207T090000
DTEND;TZID=UTC:20241207T130000
DTSTAMP:20260425T204754
CREATED:20220204T055045Z
LAST-MODIFIED:20220204T055045Z
UID:19876-1733562000-1733576400@dogfriendlysanantonio.com
SUMMARY:Pearl Farmers Market
DESCRIPTION:Saturdays markets are dedicated to our local farmers and ranchers. Find fresh produce and meat local to South Texas.
URL:https://dogfriendlysanantonio.com/event/pearl-farmers-market-4-2024-12-07/
LOCATION:The Historic Pearl
CATEGORIES:Shopping
END:VEVENT
BEGIN:VEVENT
DTSTART;TZID=UTC:20241204T180000
DTEND;TZID=UTC:20241204T210000
DTSTAMP:20260425T204754
CREATED:20220304T222423Z
LAST-MODIFIED:20220304T222423Z
UID:19883-1733335200-1733346000@dogfriendlysanantonio.com
SUMMARY:Doggie Days
DESCRIPTION:Pamper your pup every Wednesday at Chicken N Pickle! We will have the most  pawesome  local dog-centric vendors on site for you & your pup to explore.
URL:https://dogfriendlysanantonio.com/event/doggie-days-3-2024-12-04/
LOCATION:Chicken N Pickle\, 5215 UTSA Blvd\, San Antonio\, TX\, 78249\, United States
CATEGORIES:Happy Hour,Shopping,Social
ATTACH;FMTTYPE=image/jpeg:https://dogfriendlysanantonio.com/wp-content/uploads/2022/03/chicken-n-pickle-doggie-days.jpeg
END:VEVENT
BEGIN:VEVENT
DTSTART;TZID=UTC:20241203T190000
DTEND;TZID=UTC:20241203T230000
DTSTAMP:20260425T204754
CREATED:20240104T225355Z
LAST-MODIFIED:20240104T225355Z
UID:26792-1733252400-1733266800@dogfriendlysanantonio.com
SUMMARY:Karaoke at Idle Beer
DESCRIPTION:Tuesday Karaoke Night at #IdleBrewing 🎶 Hosted by Irish Cowboy Productions Karaoke 🎶 Every Tuesday night starting at 7pm — sing your heart out and enjoy a cold beer!  Whether you’re a seasoned pro or a complete beginner\, everyone is welcome to join in on the fun.
URL:https://dogfriendlysanantonio.com/event/karaoke-at-idle-beer-2024-12-03/
LOCATION:Idle Beer Hall & Brewery\, 414 Brooklyn Ave
CATEGORIES:Happy Hour,Music
ATTACH;FMTTYPE=image/png:https://dogfriendlysanantonio.com/wp-content/uploads/2024/01/karaoke-idle-beer.png
END:VEVENT
BEGIN:VEVENT
DTSTART;TZID=UTC:20241202T170000
DTEND;TZID=UTC:20241202T190000
DTSTAMP:20260425T204754
CREATED:20241123T215209Z
LAST-MODIFIED:20241123T215534Z
UID:37220-1733158800-1733166000@dogfriendlysanantonio.com
SUMMARY:Movie Mondays\, Elf (The Historic Pearl)
DESCRIPTION:This season\, enjoy FREE movies at The Historic Pearl in Pearl Park. Bring your blankets\, lawn chairs\, snacks and picnics for an unforgettable outdoor experience. Movies start approximately at sunset.
URL:https://dogfriendlysanantonio.com/event/movie-mondays-elf-the-historic-pearl/
LOCATION:The Historic Pearl
ATTACH;FMTTYPE=image/webp:https://dogfriendlysanantonio.com/wp-content/uploads/2024/11/k-1.webp
END:VEVENT
BEGIN:VEVENT
DTSTART;TZID=UTC:20241202T110000
DTEND;TZID=UTC:20241202T200000
DTSTAMP:20260425T204754
CREATED:20241205T054737Z
LAST-MODIFIED:20241205T054737Z
UID:37485-1733137200-1733169600@dogfriendlysanantonio.com
SUMMARY:Pet Photos with Santa
DESCRIPTION:Santa has set aside some time dedicated to your four-legged friends so you can come capture magical holiday photos solo or with the whole family! Mix and mingle with other pet lovers while your furry friend takes a paw-satively adorable photo with Santa.\nMonday\, November 18 and 25 all day\nMonday\, December 2\, 9\, 16 and 23 all day
URL:https://dogfriendlysanantonio.com/event/pet-photos-with-santa-5-2024-12-02/
LOCATION:Ingram Park Mall\, 3218 Wurzbach Rd\, 78238
CATEGORIES:Holidays
ATTACH;FMTTYPE=image/jpeg:https://dogfriendlysanantonio.com/wp-content/uploads/2024/12/pet-photos-with-santa.jpg
END:VEVENT
BEGIN:VEVENT
DTSTART;TZID=UTC:20241201T110000
DTEND;TZID=UTC:20241201T170000
DTSTAMP:20260425T204754
CREATED:20241123T165619Z
LAST-MODIFIED:20241123T165730Z
UID:37198-1733050800-1733072400@dogfriendlysanantonio.com
SUMMARY:Paint Your Pet
DESCRIPTION:One of our favorite events! Paint your very own pet while raising funds for a great cause. We’ll provide drinks & snacks\, or you can BYOB. So much fun! LOTSA GIVEAWAYS! Great stocking stuffer\, holiday gift or girl’s day out event! Be sure to email the studio your pet’s picture when you register!
URL:https://dogfriendlysanantonio.com/event/paint-your-pet-3/
LOCATION:Painting With A Twist\, 555 W Bitters Rd\, San Antonio\, TX\, 78232\, us
CATEGORIES:Arts,Causes
ATTACH;FMTTYPE=image/jpeg:https://dogfriendlysanantonio.com/wp-content/uploads/2024/11/h.jpeg
END:VEVENT
BEGIN:VEVENT
DTSTART;TZID=UTC:20241130T130000
DTEND;TZID=UTC:20241130T170000
DTSTAMP:20260425T204754
CREATED:20241112T235147Z
LAST-MODIFIED:20241112T235723Z
UID:36871-1732971600-1732986000@dogfriendlysanantonio.com
SUMMARY:Paws and Claus Holiday Pet Pics
DESCRIPTION:Join us at The Dog Co. IceHouse for a Paws and Claus Holiday Pet Picks celebration! Bring your furry friends for holiday photos with Santa Claus\, the Grinch\, and more!\nWith a $10 donation benefiting San Antonio Pets Alive!\, you’ll help make a difference for pets in need.\nDress up your pet in your favorite college team colors and enjoy the big games on screen! Don’t miss this fun-filled day of holiday cheer\, adorable pets\, and community spirit!
URL:https://dogfriendlysanantonio.com/event/paws-and-claus-holiday-pet-pics/
LOCATION:The Dog Co. Icehouse\, 4302 Hyatt Place Dr\, San Antonio
CATEGORIES:Causes
ATTACH;FMTTYPE=image/jpeg:https://dogfriendlysanantonio.com/wp-content/uploads/2024/11/claus.jpeg
END:VEVENT
BEGIN:VEVENT
DTSTART;TZID=UTC:20241130T090000
DTEND;TZID=UTC:20241130T130000
DTSTAMP:20260425T204754
CREATED:20220204T055045Z
LAST-MODIFIED:20220204T055045Z
UID:19875-1732957200-1732971600@dogfriendlysanantonio.com
SUMMARY:Pearl Farmers Market
DESCRIPTION:Saturdays markets are dedicated to our local farmers and ranchers. Find fresh produce and meat local to South Texas.
URL:https://dogfriendlysanantonio.com/event/pearl-farmers-market-4-2024-11-30/
LOCATION:The Historic Pearl
CATEGORIES:Shopping
END:VEVENT
BEGIN:VEVENT
DTSTART;TZID=UTC:20241127T180000
DTEND;TZID=UTC:20241127T210000
DTSTAMP:20260425T204754
CREATED:20220304T222423Z
LAST-MODIFIED:20220304T222423Z
UID:19882-1732730400-1732741200@dogfriendlysanantonio.com
SUMMARY:Doggie Days
DESCRIPTION:Pamper your pup every Wednesday at Chicken N Pickle! We will have the most  pawesome  local dog-centric vendors on site for you & your pup to explore.
URL:https://dogfriendlysanantonio.com/event/doggie-days-3-2024-11-27/
LOCATION:Chicken N Pickle\, 5215 UTSA Blvd\, San Antonio\, TX\, 78249\, United States
CATEGORIES:Happy Hour,Shopping,Social
ATTACH;FMTTYPE=image/jpeg:https://dogfriendlysanantonio.com/wp-content/uploads/2022/03/chicken-n-pickle-doggie-days.jpeg
END:VEVENT
BEGIN:VEVENT
DTSTART;TZID=UTC:20241126T190000
DTEND;TZID=UTC:20241126T230000
DTSTAMP:20260425T204754
CREATED:20240104T225355Z
LAST-MODIFIED:20240104T225355Z
UID:26791-1732647600-1732662000@dogfriendlysanantonio.com
SUMMARY:Karaoke at Idle Beer
DESCRIPTION:Tuesday Karaoke Night at #IdleBrewing 🎶 Hosted by Irish Cowboy Productions Karaoke 🎶 Every Tuesday night starting at 7pm — sing your heart out and enjoy a cold beer!  Whether you’re a seasoned pro or a complete beginner\, everyone is welcome to join in on the fun.
URL:https://dogfriendlysanantonio.com/event/karaoke-at-idle-beer-2024-11-26/
LOCATION:Idle Beer Hall & Brewery\, 414 Brooklyn Ave
CATEGORIES:Happy Hour,Music
ATTACH;FMTTYPE=image/png:https://dogfriendlysanantonio.com/wp-content/uploads/2024/01/karaoke-idle-beer.png
END:VEVENT
BEGIN:VEVENT
DTSTART;TZID=UTC:20241125T170000
DTEND;TZID=UTC:20241125T190000
DTSTAMP:20260425T204754
CREATED:20241123T214648Z
LAST-MODIFIED:20241123T214648Z
UID:37216-1732554000-1732561200@dogfriendlysanantonio.com
SUMMARY:Movie Mondays\, Ratatouille (The Historic Pearl)
DESCRIPTION:This season\, enjoy FREE movies at The Historic Pearl in Pearl Park. Bring your blankets\, lawn chairs\, snacks and picnics for an unforgettable outdoor experience. Movies start approximately at sunset.
URL:https://dogfriendlysanantonio.com/event/movie-mondays-ratatouille-the-historic-pearl/
LOCATION:The Historic Pearl
CATEGORIES:Social
ATTACH;FMTTYPE=image/webp:https://dogfriendlysanantonio.com/wp-content/uploads/2024/11/k.webp
END:VEVENT
BEGIN:VEVENT
DTSTART;TZID=UTC:20241125T110000
DTEND;TZID=UTC:20241125T200000
DTSTAMP:20260425T204754
CREATED:20241205T054737Z
LAST-MODIFIED:20241205T054737Z
UID:37483-1732532400-1732564800@dogfriendlysanantonio.com
SUMMARY:Pet Photos with Santa
DESCRIPTION:Santa has set aside some time dedicated to your four-legged friends so you can come capture magical holiday photos solo or with the whole family! Mix and mingle with other pet lovers while your furry friend takes a paw-satively adorable photo with Santa.\nMonday\, November 18 and 25 all day\nMonday\, December 2\, 9\, 16 and 23 all day
URL:https://dogfriendlysanantonio.com/event/pet-photos-with-santa-5/
LOCATION:Ingram Park Mall\, 3218 Wurzbach Rd\, 78238
CATEGORIES:Holidays
ATTACH;FMTTYPE=image/jpeg:https://dogfriendlysanantonio.com/wp-content/uploads/2024/12/pet-photos-with-santa.jpg
END:VEVENT
BEGIN:VEVENT
DTSTART;TZID=UTC:20241124T113000
DTEND;TZID=UTC:20241124T123000
DTSTAMP:20260425T204754
CREATED:20241112T234654Z
LAST-MODIFIED:20241112T234654Z
UID:36869-1732447800-1732451400@dogfriendlysanantonio.com
SUMMARY:Puppy Yoga: Gratitude Puppy Yoga at Confluence Park With Mobile Om
DESCRIPTION:Calling all Yogis\, puppy lovers\, or BOTH!\nSNIPSA will be at Confluence Park for a rejuvenating yoga session led by Mobile Om. It’s a $15 donation to sign up\, and the proceeds go towards SNIPSA! The event will be held on Sunday\, November 24th\, 11:30 a.m.- 12:30 p.m. at 310 W Mitchell St.\, 78204.\nUnroll your mat alongside adorable adoptable puppies and support a great cause while enjoying the relaxing benefits of yoga. Find your Zen and save a friend! Sign up at the link.\n\nSunday\, November 24th11:30 a.m.- 12:30 p.m.Confluence Park310 W Mitchell St.\, 78204\nJoin here: https://mobileomtx.com/#join\nVOLUNTEER WITH SNIPSA: https://timecounts.app/…/4e1cd0b6-9de2-487f-ba50&#8230;
URL:https://dogfriendlysanantonio.com/event/puppy-yoga-gratitude-puppy-yoga-at-confluence-park-with-mobile-om/
LOCATION:Confluence Park\, 310 W Mitchell Street\, 78204
CATEGORIES:Fitness
ATTACH;FMTTYPE=image/jpeg:https://dogfriendlysanantonio.com/wp-content/uploads/2024/11/yoga.jpeg
END:VEVENT
BEGIN:VEVENT
DTSTART;TZID=UTC:20241123T110000
DTEND;TZID=UTC:20241123T150000
DTSTAMP:20260425T204754
CREATED:20241115T010924Z
LAST-MODIFIED:20241115T010924Z
UID:36911-1732359600-1732374000@dogfriendlysanantonio.com
SUMMARY:Whole Earth Provision Co. Adoption Event
DESCRIPTION:SNIPSA is coming to Whole Earth Provision Co. to showcase our adoptable pets! It’s a pawsome opportunity to meet your new best friend! Whether you’re ready to adopt or just want to support a great cause\, we would love to see you there. Learn about SNIPSA’s mission and how you can make a difference in the lives of San Antonio’s cats and dogs. \nWhole Earth Provision Co. is located at the Alamo Quarry Market. We hope to see you there!
URL:https://dogfriendlysanantonio.com/event/whole-earth-provision-co-adoption-event/
LOCATION:Whole Earth Provision Co.\, 255 E Basse Rd\, 78209
CATEGORIES:Adoption
ATTACH;FMTTYPE=image/png:https://dogfriendlysanantonio.com/wp-content/uploads/2024/11/b.png
END:VEVENT
BEGIN:VEVENT
DTSTART;TZID=UTC:20241123T110000
DTEND;TZID=UTC:20241123T130000
DTSTAMP:20260425T204754
CREATED:20241112T234211Z
LAST-MODIFIED:20241112T234211Z
UID:36866-1732359600-1732366800@dogfriendlysanantonio.com
SUMMARY:Puppies & Poses
DESCRIPTION:Do you love yoga? Puppies? Mimosas? Then join us on November 23 for a playful yoga class featuring adorable puppies from Charming Pet Rescue! Puppies will be practicing their socializing and napping right along side you while you get in a sweat shesh! Enjoy mimosas and puppy breath after class! Proceeds benefit Charming Pet Rescue. BYOMat\nhttps://www.eventbrite.com/…/puppies-poses-tickets&#8230;
URL:https://dogfriendlysanantonio.com/event/puppies-poses/
LOCATION:Train Anytime
CATEGORIES:Fitness
ATTACH;FMTTYPE=image/jpeg:https://dogfriendlysanantonio.com/wp-content/uploads/2024/11/poses.jpeg
END:VEVENT
BEGIN:VEVENT
DTSTART;TZID=UTC:20241123T090000
DTEND;TZID=UTC:20241123T130000
DTSTAMP:20260425T204754
CREATED:20220204T055045Z
LAST-MODIFIED:20220204T055045Z
UID:19874-1732352400-1732366800@dogfriendlysanantonio.com
SUMMARY:Pearl Farmers Market
DESCRIPTION:Saturdays markets are dedicated to our local farmers and ranchers. Find fresh produce and meat local to South Texas.
URL:https://dogfriendlysanantonio.com/event/pearl-farmers-market-4-2024-11-23/
LOCATION:The Historic Pearl
CATEGORIES:Shopping
END:VEVENT
BEGIN:VEVENT
DTSTART;TZID=UTC:20241120T180000
DTEND;TZID=UTC:20241120T210000
DTSTAMP:20260425T204754
CREATED:20220304T222423Z
LAST-MODIFIED:20220304T222423Z
UID:19881-1732125600-1732136400@dogfriendlysanantonio.com
SUMMARY:Doggie Days
DESCRIPTION:Pamper your pup every Wednesday at Chicken N Pickle! We will have the most  pawesome  local dog-centric vendors on site for you & your pup to explore.
URL:https://dogfriendlysanantonio.com/event/doggie-days-3-2024-11-20/
LOCATION:Chicken N Pickle\, 5215 UTSA Blvd\, San Antonio\, TX\, 78249\, United States
CATEGORIES:Happy Hour,Shopping,Social
ATTACH;FMTTYPE=image/jpeg:https://dogfriendlysanantonio.com/wp-content/uploads/2022/03/chicken-n-pickle-doggie-days.jpeg
END:VEVENT
BEGIN:VEVENT
DTSTART;TZID=UTC:20241119T190000
DTEND;TZID=UTC:20241119T230000
DTSTAMP:20260425T204754
CREATED:20240104T225355Z
LAST-MODIFIED:20240104T225355Z
UID:26790-1732042800-1732057200@dogfriendlysanantonio.com
SUMMARY:Karaoke at Idle Beer
DESCRIPTION:Tuesday Karaoke Night at #IdleBrewing 🎶 Hosted by Irish Cowboy Productions Karaoke 🎶 Every Tuesday night starting at 7pm — sing your heart out and enjoy a cold beer!  Whether you’re a seasoned pro or a complete beginner\, everyone is welcome to join in on the fun.
URL:https://dogfriendlysanantonio.com/event/karaoke-at-idle-beer-2024-11-19/
LOCATION:Idle Beer Hall & Brewery\, 414 Brooklyn Ave
CATEGORIES:Happy Hour,Music
ATTACH;FMTTYPE=image/png:https://dogfriendlysanantonio.com/wp-content/uploads/2024/01/karaoke-idle-beer.png
END:VEVENT
BEGIN:VEVENT
DTSTART;TZID=UTC:20241117T140000
DTEND;TZID=UTC:20241117T170000
DTSTAMP:20260425T204754
CREATED:20241112T233844Z
LAST-MODIFIED:20241112T233844Z
UID:36864-1731852000-1731862800@dogfriendlysanantonio.com
SUMMARY:A Doggo's Day Out
DESCRIPTION: Join us for A Doggo’s Day Out – A Free Event for You and Your Furry Friends! \n Date: Sunday\, November 17th Location: The Dog Co. Icehouse\, 4302 Hyatt Place\, San Antonio\, TX 78230\nCome enjoy a day filled with fun for both you and your pets! Bring your pup along for an exciting market and more\, featuring:\n Live Music– Sit back and relax with live tunes to set the vibe. Pet-Themed Market – Explore unique products and treats your dog will love Paint with Your Pet Class – Unleash your creativity with a paws-on art class! Tickets available!\nWhether you’re looking for a unique way to bond with your dog or simply enjoy a fun day out\, this event has something for everyone. Don’t miss it!\n All dogs welcome\, so bring the whole pack!\nMark your calendars and see you there!
URL:https://dogfriendlysanantonio.com/event/a-doggos-day-out/
LOCATION:The Dog Co. Icehouse\, 4302 Hyatt Place Dr\, San Antonio
CATEGORIES:Music
ATTACH;FMTTYPE=image/jpeg:https://dogfriendlysanantonio.com/wp-content/uploads/2024/11/doggo.jpeg
END:VEVENT
BEGIN:VEVENT
DTSTART;TZID=UTC:20241116T140000
DTEND;TZID=UTC:20241116T170000
DTSTAMP:20260425T204754
CREATED:20241115T010144Z
LAST-MODIFIED:20241115T010144Z
UID:36906-1731765600-1731776400@dogfriendlysanantonio.com
SUMMARY:Footbridge Foundation Off the Leash 2024
DESCRIPTION:We warmly invite you to an unforgettable afternoon at Footbridge Foundation’s Annual Off the Leash Fundraiser\, a celebration benefiting stray dogs and cats in San Antonio. This event is not just an afternoon of festivities; it’s an opportunity to make a meaningful difference in the lives of our city’s most vulnerable pets. \nWhy Your Presence Matters: Every Ticket purchased\, donation made\, and bid placed in our silent auction directly supports our spay-neuter clinic and rescue efforts\, which provides essential care to countless animals in need right in downtown San Antonio. By joining us\, you will experience an afternoon of excitement and community spirit contributing to a cause that truly impacts our city. We look forward to celebrating with you! \nWhat to Expect: \n\n\nA Memorable San Antonio Experience:Indulge in a culinary journey crafted by renowned Chef Johnny Hernandez\, a celebrated figure in San Antonio’s culinary scene. Chef Hernandez will present a vibrant array of botanas inspired by the rich traditions of Mexican cuisine. Savor two signature cocktails crafted by the talented mixologists of Casa Hernán Cantina. Enjoy a lively atmosphere featuring entertainment by DJ ANNALXG\, with our MC and special guest\, Roma Villavicencio\, host of Great Day SA on KENS 5\, along with inspiring stories from special friends and supporters. \n\n\nSilent Auction and Raffles: Bid on exciting items\, including a Farer watch\, a Texas Hill Country vacation\, a Max & Neo paddleboard\, Spurs tickets\, an original Gary Sweeney print\, Valero Alamo Bowl tickets\, and over 100 items generously donated by local businesses and supporters of the Footbridge Foundation. The auction will launch online 10 days prior to the event and will close at 4:30 pm on November 16th\, 30 minutes before the festivities conclude. \n\n\nExclusive VIP Area: This year\, we’re thrilled to introduce a brand-new VIP area located upstairs\, featuring a stunning outdoor balcony with breathtaking views of the San Antonio skyline. VIP guests will enjoy access to an exclusive cocktail bar and additional hors d’oeuvres\, providing an opportunity to mingle with sponsors and key supporters. This special area\, once the personal residence of Chef Johnny\, has been graciously opened to enhance your experience and foster connections while making a meaningful impact on our cause. Don’t miss this unique opportunity to elevate your experience at our event! \n\nPurchase your tickets today. Thank you for your continued support and we look forward to seeing you at Off the Leash!
URL:https://dogfriendlysanantonio.com/event/footbridge-foundation-off-the-leash-2024/
LOCATION:Casa Hernán Cantina\, 411 E Cevallos St.\, San Antonio\, 78204
CATEGORIES:Causes,Fundraiser
ATTACH;FMTTYPE=image/png:https://dogfriendlysanantonio.com/wp-content/uploads/2024/11/foot.png
END:VEVENT
BEGIN:VEVENT
DTSTART;TZID=UTC:20241116T120000
DTEND;TZID=UTC:20241116T160000
DTSTAMP:20260425T204754
CREATED:20241115T010632Z
LAST-MODIFIED:20241115T010632Z
UID:36909-1731758400-1731772800@dogfriendlysanantonio.com
SUMMARY:Hops & Hounds Adoption Event
DESCRIPTION:Savor the paw-sitive vibes with a drink in one hand and a puppy in the other! Bring your pack and come see us at Hops & Hounds to meet some of our adoptable SNIPSA pups. You can’t go wrong with spending your weekend enjoying some brews and bites (and maybe even taking a new friend home with you). It’s guaranteed to be loads of furry fun!
URL:https://dogfriendlysanantonio.com/event/hops-hounds-adoption-event/
LOCATION:Hops & Hounds\, 1123 Ave. B\, San Antonio\, TX\, 78247
CATEGORIES:Adoption
ATTACH;FMTTYPE=image/png:https://dogfriendlysanantonio.com/wp-content/uploads/2024/11/a.png
END:VEVENT
BEGIN:VEVENT
DTSTART;TZID=UTC:20241116T090000
DTEND;TZID=UTC:20241116T130000
DTSTAMP:20260425T204754
CREATED:20220204T055045Z
LAST-MODIFIED:20220204T055045Z
UID:19873-1731747600-1731762000@dogfriendlysanantonio.com
SUMMARY:Pearl Farmers Market
DESCRIPTION:Saturdays markets are dedicated to our local farmers and ranchers. Find fresh produce and meat local to South Texas.
URL:https://dogfriendlysanantonio.com/event/pearl-farmers-market-4-2024-11-16/
LOCATION:The Historic Pearl
CATEGORIES:Shopping
END:VEVENT
END:VCALENDAR