BEGIN:VCALENDAR
VERSION:2.0
PRODID:-//The Dog Guide San Antonio - ECPv6.13.2.1//NONSGML v1.0//EN
CALSCALE:GREGORIAN
METHOD:PUBLISH
X-WR-CALNAME:The Dog Guide San Antonio
X-ORIGINAL-URL:https://dogfriendlysanantonio.com
X-WR-CALDESC:Events for The Dog Guide San Antonio
REFRESH-INTERVAL;VALUE=DURATION:PT1H
X-Robots-Tag:noindex
X-PUBLISHED-TTL:PT1H
BEGIN:VTIMEZONE
TZID:UTC
BEGIN:STANDARD
TZOFFSETFROM:+0000
TZOFFSETTO:+0000
TZNAME:UTC
DTSTART:20250101T000000
END:STANDARD
END:VTIMEZONE
BEGIN:VEVENT
DTSTART;TZID=UTC:20260214T090000
DTEND;TZID=UTC:20260214T130000
DTSTAMP:20260423T183307
CREATED:20220204T055045Z
LAST-MODIFIED:20220204T055045Z
UID:32161-1771059600-1771074000@dogfriendlysanantonio.com
SUMMARY:Pearl Farmers Market
DESCRIPTION:Saturdays markets are dedicated to our local farmers and ranchers. Find fresh produce and meat local to South Texas.
URL:https://dogfriendlysanantonio.com/event/pearl-farmers-market-4-2026-02-14/
LOCATION:The Historic Pearl
CATEGORIES:Shopping
END:VEVENT
BEGIN:VEVENT
DTSTART;TZID=UTC:20260211T180000
DTEND;TZID=UTC:20260211T210000
DTSTAMP:20260423T183307
CREATED:20220304T222423Z
LAST-MODIFIED:20220304T222423Z
UID:32135-1770832800-1770843600@dogfriendlysanantonio.com
SUMMARY:Doggie Days
DESCRIPTION:Pamper your pup every Wednesday at Chicken N Pickle! We will have the most  pawesome  local dog-centric vendors on site for you & your pup to explore.
URL:https://dogfriendlysanantonio.com/event/doggie-days-3-2026-02-11/
LOCATION:Chicken N Pickle\, 5215 UTSA Blvd\, San Antonio\, TX\, 78249\, United States
CATEGORIES:Happy Hour,Shopping,Social
ATTACH;FMTTYPE=image/jpeg:https://dogfriendlysanantonio.com/wp-content/uploads/2022/03/chicken-n-pickle-doggie-days.jpeg
END:VEVENT
BEGIN:VEVENT
DTSTART;TZID=UTC:20260210T190000
DTEND;TZID=UTC:20260210T230000
DTSTAMP:20260423T183307
CREATED:20240104T225355Z
LAST-MODIFIED:20240104T225355Z
UID:32110-1770750000-1770764400@dogfriendlysanantonio.com
SUMMARY:Karaoke at Idle Beer
DESCRIPTION:Tuesday Karaoke Night at #IdleBrewing 🎶 Hosted by Irish Cowboy Productions Karaoke 🎶 Every Tuesday night starting at 7pm — sing your heart out and enjoy a cold beer!  Whether you’re a seasoned pro or a complete beginner\, everyone is welcome to join in on the fun.
URL:https://dogfriendlysanantonio.com/event/karaoke-at-idle-beer-2026-02-10/
LOCATION:Idle Beer Hall & Brewery\, 414 Brooklyn Ave
CATEGORIES:Happy Hour,Music
ATTACH;FMTTYPE=image/png:https://dogfriendlysanantonio.com/wp-content/uploads/2024/01/karaoke-idle-beer.png
END:VEVENT
BEGIN:VEVENT
DTSTART;TZID=UTC:20260207T090000
DTEND;TZID=UTC:20260207T130000
DTSTAMP:20260423T183307
CREATED:20220204T055045Z
LAST-MODIFIED:20220204T055045Z
UID:32160-1770454800-1770469200@dogfriendlysanantonio.com
SUMMARY:Pearl Farmers Market
DESCRIPTION:Saturdays markets are dedicated to our local farmers and ranchers. Find fresh produce and meat local to South Texas.
URL:https://dogfriendlysanantonio.com/event/pearl-farmers-market-4-2026-02-07/
LOCATION:The Historic Pearl
CATEGORIES:Shopping
END:VEVENT
BEGIN:VEVENT
DTSTART;TZID=UTC:20260204T180000
DTEND;TZID=UTC:20260204T210000
DTSTAMP:20260423T183307
CREATED:20220304T222423Z
LAST-MODIFIED:20220304T222423Z
UID:32134-1770228000-1770238800@dogfriendlysanantonio.com
SUMMARY:Doggie Days
DESCRIPTION:Pamper your pup every Wednesday at Chicken N Pickle! We will have the most  pawesome  local dog-centric vendors on site for you & your pup to explore.
URL:https://dogfriendlysanantonio.com/event/doggie-days-3-2026-02-04/
LOCATION:Chicken N Pickle\, 5215 UTSA Blvd\, San Antonio\, TX\, 78249\, United States
CATEGORIES:Happy Hour,Shopping,Social
ATTACH;FMTTYPE=image/jpeg:https://dogfriendlysanantonio.com/wp-content/uploads/2022/03/chicken-n-pickle-doggie-days.jpeg
END:VEVENT
BEGIN:VEVENT
DTSTART;TZID=UTC:20260203T190000
DTEND;TZID=UTC:20260203T230000
DTSTAMP:20260423T183307
CREATED:20240104T225355Z
LAST-MODIFIED:20240104T225355Z
UID:32109-1770145200-1770159600@dogfriendlysanantonio.com
SUMMARY:Karaoke at Idle Beer
DESCRIPTION:Tuesday Karaoke Night at #IdleBrewing 🎶 Hosted by Irish Cowboy Productions Karaoke 🎶 Every Tuesday night starting at 7pm — sing your heart out and enjoy a cold beer!  Whether you’re a seasoned pro or a complete beginner\, everyone is welcome to join in on the fun.
URL:https://dogfriendlysanantonio.com/event/karaoke-at-idle-beer-2026-02-03/
LOCATION:Idle Beer Hall & Brewery\, 414 Brooklyn Ave
CATEGORIES:Happy Hour,Music
ATTACH;FMTTYPE=image/png:https://dogfriendlysanantonio.com/wp-content/uploads/2024/01/karaoke-idle-beer.png
END:VEVENT
BEGIN:VEVENT
DTSTART;TZID=UTC:20260131T090000
DTEND;TZID=UTC:20260131T130000
DTSTAMP:20260423T183307
CREATED:20220204T055045Z
LAST-MODIFIED:20220204T055045Z
UID:32159-1769850000-1769864400@dogfriendlysanantonio.com
SUMMARY:Pearl Farmers Market
DESCRIPTION:Saturdays markets are dedicated to our local farmers and ranchers. Find fresh produce and meat local to South Texas.
URL:https://dogfriendlysanantonio.com/event/pearl-farmers-market-4-2026-01-31/
LOCATION:The Historic Pearl
CATEGORIES:Shopping
END:VEVENT
BEGIN:VEVENT
DTSTART;TZID=UTC:20260128T180000
DTEND;TZID=UTC:20260128T210000
DTSTAMP:20260423T183307
CREATED:20220304T222423Z
LAST-MODIFIED:20220304T222423Z
UID:32133-1769623200-1769634000@dogfriendlysanantonio.com
SUMMARY:Doggie Days
DESCRIPTION:Pamper your pup every Wednesday at Chicken N Pickle! We will have the most  pawesome  local dog-centric vendors on site for you & your pup to explore.
URL:https://dogfriendlysanantonio.com/event/doggie-days-3-2026-01-28/
LOCATION:Chicken N Pickle\, 5215 UTSA Blvd\, San Antonio\, TX\, 78249\, United States
CATEGORIES:Happy Hour,Shopping,Social
ATTACH;FMTTYPE=image/jpeg:https://dogfriendlysanantonio.com/wp-content/uploads/2022/03/chicken-n-pickle-doggie-days.jpeg
END:VEVENT
BEGIN:VEVENT
DTSTART;TZID=UTC:20260127T190000
DTEND;TZID=UTC:20260127T230000
DTSTAMP:20260423T183307
CREATED:20240104T225355Z
LAST-MODIFIED:20240104T225355Z
UID:32108-1769540400-1769554800@dogfriendlysanantonio.com
SUMMARY:Karaoke at Idle Beer
DESCRIPTION:Tuesday Karaoke Night at #IdleBrewing 🎶 Hosted by Irish Cowboy Productions Karaoke 🎶 Every Tuesday night starting at 7pm — sing your heart out and enjoy a cold beer!  Whether you’re a seasoned pro or a complete beginner\, everyone is welcome to join in on the fun.
URL:https://dogfriendlysanantonio.com/event/karaoke-at-idle-beer-2026-01-27/
LOCATION:Idle Beer Hall & Brewery\, 414 Brooklyn Ave
CATEGORIES:Happy Hour,Music
ATTACH;FMTTYPE=image/png:https://dogfriendlysanantonio.com/wp-content/uploads/2024/01/karaoke-idle-beer.png
END:VEVENT
BEGIN:VEVENT
DTSTART;TZID=UTC:20260124T090000
DTEND;TZID=UTC:20260124T130000
DTSTAMP:20260423T183307
CREATED:20220204T055045Z
LAST-MODIFIED:20220204T055045Z
UID:32158-1769245200-1769259600@dogfriendlysanantonio.com
SUMMARY:Pearl Farmers Market
DESCRIPTION:Saturdays markets are dedicated to our local farmers and ranchers. Find fresh produce and meat local to South Texas.
URL:https://dogfriendlysanantonio.com/event/pearl-farmers-market-4-2026-01-24/
LOCATION:The Historic Pearl
CATEGORIES:Shopping
END:VEVENT
BEGIN:VEVENT
DTSTART;TZID=UTC:20260121T180000
DTEND;TZID=UTC:20260121T210000
DTSTAMP:20260423T183307
CREATED:20220304T222423Z
LAST-MODIFIED:20220304T222423Z
UID:27345-1769018400-1769029200@dogfriendlysanantonio.com
SUMMARY:Doggie Days
DESCRIPTION:Pamper your pup every Wednesday at Chicken N Pickle! We will have the most  pawesome  local dog-centric vendors on site for you & your pup to explore.
URL:https://dogfriendlysanantonio.com/event/doggie-days-3-2026-01-21/
LOCATION:Chicken N Pickle\, 5215 UTSA Blvd\, San Antonio\, TX\, 78249\, United States
CATEGORIES:Happy Hour,Shopping,Social
ATTACH;FMTTYPE=image/jpeg:https://dogfriendlysanantonio.com/wp-content/uploads/2022/03/chicken-n-pickle-doggie-days.jpeg
END:VEVENT
BEGIN:VEVENT
DTSTART;TZID=UTC:20260120T190000
DTEND;TZID=UTC:20260120T230000
DTSTAMP:20260423T183307
CREATED:20240104T225355Z
LAST-MODIFIED:20240104T225355Z
UID:27321-1768935600-1768950000@dogfriendlysanantonio.com
SUMMARY:Karaoke at Idle Beer
DESCRIPTION:Tuesday Karaoke Night at #IdleBrewing 🎶 Hosted by Irish Cowboy Productions Karaoke 🎶 Every Tuesday night starting at 7pm — sing your heart out and enjoy a cold beer!  Whether you’re a seasoned pro or a complete beginner\, everyone is welcome to join in on the fun.
URL:https://dogfriendlysanantonio.com/event/karaoke-at-idle-beer-2026-01-20/
LOCATION:Idle Beer Hall & Brewery\, 414 Brooklyn Ave
CATEGORIES:Happy Hour,Music
ATTACH;FMTTYPE=image/png:https://dogfriendlysanantonio.com/wp-content/uploads/2024/01/karaoke-idle-beer.png
END:VEVENT
BEGIN:VEVENT
DTSTART;TZID=UTC:20260117T090000
DTEND;TZID=UTC:20260117T130000
DTSTAMP:20260423T183307
CREATED:20220204T055045Z
LAST-MODIFIED:20220204T055045Z
UID:27217-1768640400-1768654800@dogfriendlysanantonio.com
SUMMARY:Pearl Farmers Market
DESCRIPTION:Saturdays markets are dedicated to our local farmers and ranchers. Find fresh produce and meat local to South Texas.
URL:https://dogfriendlysanantonio.com/event/pearl-farmers-market-4-2026-01-17/
LOCATION:The Historic Pearl
CATEGORIES:Shopping
END:VEVENT
BEGIN:VEVENT
DTSTART;TZID=UTC:20260114T180000
DTEND;TZID=UTC:20260114T210000
DTSTAMP:20260423T183307
CREATED:20220304T222423Z
LAST-MODIFIED:20220304T222423Z
UID:27152-1768413600-1768424400@dogfriendlysanantonio.com
SUMMARY:Doggie Days
DESCRIPTION:Pamper your pup every Wednesday at Chicken N Pickle! We will have the most  pawesome  local dog-centric vendors on site for you & your pup to explore.
URL:https://dogfriendlysanantonio.com/event/doggie-days-3-2026-01-14/
LOCATION:Chicken N Pickle\, 5215 UTSA Blvd\, San Antonio\, TX\, 78249\, United States
CATEGORIES:Happy Hour,Shopping,Social
ATTACH;FMTTYPE=image/jpeg:https://dogfriendlysanantonio.com/wp-content/uploads/2022/03/chicken-n-pickle-doggie-days.jpeg
END:VEVENT
BEGIN:VEVENT
DTSTART;TZID=UTC:20260113T190000
DTEND;TZID=UTC:20260113T230000
DTSTAMP:20260423T183307
CREATED:20240104T225355Z
LAST-MODIFIED:20240104T225355Z
UID:27126-1768330800-1768345200@dogfriendlysanantonio.com
SUMMARY:Karaoke at Idle Beer
DESCRIPTION:Tuesday Karaoke Night at #IdleBrewing 🎶 Hosted by Irish Cowboy Productions Karaoke 🎶 Every Tuesday night starting at 7pm — sing your heart out and enjoy a cold beer!  Whether you’re a seasoned pro or a complete beginner\, everyone is welcome to join in on the fun.
URL:https://dogfriendlysanantonio.com/event/karaoke-at-idle-beer-2026-01-13/
LOCATION:Idle Beer Hall & Brewery\, 414 Brooklyn Ave
CATEGORIES:Happy Hour,Music
ATTACH;FMTTYPE=image/png:https://dogfriendlysanantonio.com/wp-content/uploads/2024/01/karaoke-idle-beer.png
END:VEVENT
BEGIN:VEVENT
DTSTART;TZID=UTC:20260110T090000
DTEND;TZID=UTC:20260110T130000
DTSTAMP:20260423T183307
CREATED:20220204T055045Z
LAST-MODIFIED:20220204T055045Z
UID:27069-1768035600-1768050000@dogfriendlysanantonio.com
SUMMARY:Pearl Farmers Market
DESCRIPTION:Saturdays markets are dedicated to our local farmers and ranchers. Find fresh produce and meat local to South Texas.
URL:https://dogfriendlysanantonio.com/event/pearl-farmers-market-4-2026-01-10/
LOCATION:The Historic Pearl
CATEGORIES:Shopping
END:VEVENT
BEGIN:VEVENT
DTSTART;TZID=UTC:20260107T180000
DTEND;TZID=UTC:20260107T210000
DTSTAMP:20260423T183307
CREATED:20220304T222423Z
LAST-MODIFIED:20220304T222423Z
UID:26968-1767808800-1767819600@dogfriendlysanantonio.com
SUMMARY:Doggie Days
DESCRIPTION:Pamper your pup every Wednesday at Chicken N Pickle! We will have the most  pawesome  local dog-centric vendors on site for you & your pup to explore.
URL:https://dogfriendlysanantonio.com/event/doggie-days-3-2026-01-07/
LOCATION:Chicken N Pickle\, 5215 UTSA Blvd\, San Antonio\, TX\, 78249\, United States
CATEGORIES:Happy Hour,Shopping,Social
ATTACH;FMTTYPE=image/jpeg:https://dogfriendlysanantonio.com/wp-content/uploads/2022/03/chicken-n-pickle-doggie-days.jpeg
END:VEVENT
BEGIN:VEVENT
DTSTART;TZID=UTC:20260106T190000
DTEND;TZID=UTC:20260106T230000
DTSTAMP:20260423T183307
CREATED:20240104T225355Z
LAST-MODIFIED:20240104T225355Z
UID:26945-1767726000-1767740400@dogfriendlysanantonio.com
SUMMARY:Karaoke at Idle Beer
DESCRIPTION:Tuesday Karaoke Night at #IdleBrewing 🎶 Hosted by Irish Cowboy Productions Karaoke 🎶 Every Tuesday night starting at 7pm — sing your heart out and enjoy a cold beer!  Whether you’re a seasoned pro or a complete beginner\, everyone is welcome to join in on the fun.
URL:https://dogfriendlysanantonio.com/event/karaoke-at-idle-beer-2026-01-06/
LOCATION:Idle Beer Hall & Brewery\, 414 Brooklyn Ave
CATEGORIES:Happy Hour,Music
ATTACH;FMTTYPE=image/png:https://dogfriendlysanantonio.com/wp-content/uploads/2024/01/karaoke-idle-beer.png
END:VEVENT
BEGIN:VEVENT
DTSTART;TZID=UTC:20260103T090000
DTEND;TZID=UTC:20260103T130000
DTSTAMP:20260423T183307
CREATED:20220204T055045Z
LAST-MODIFIED:20220204T055045Z
UID:26686-1767430800-1767445200@dogfriendlysanantonio.com
SUMMARY:Pearl Farmers Market
DESCRIPTION:Saturdays markets are dedicated to our local farmers and ranchers. Find fresh produce and meat local to South Texas.
URL:https://dogfriendlysanantonio.com/event/pearl-farmers-market-4-2026-01-03/
LOCATION:The Historic Pearl
CATEGORIES:Shopping
END:VEVENT
BEGIN:VEVENT
DTSTART;TZID=UTC:20251231T180000
DTEND;TZID=UTC:20251231T210000
DTSTAMP:20260423T183307
CREATED:20220304T222423Z
LAST-MODIFIED:20220304T222423Z
UID:26592-1767204000-1767214800@dogfriendlysanantonio.com
SUMMARY:Doggie Days
DESCRIPTION:Pamper your pup every Wednesday at Chicken N Pickle! We will have the most  pawesome  local dog-centric vendors on site for you & your pup to explore.
URL:https://dogfriendlysanantonio.com/event/doggie-days-3-2025-12-31/
LOCATION:Chicken N Pickle\, 5215 UTSA Blvd\, San Antonio\, TX\, 78249\, United States
CATEGORIES:Happy Hour,Shopping,Social
ATTACH;FMTTYPE=image/jpeg:https://dogfriendlysanantonio.com/wp-content/uploads/2022/03/chicken-n-pickle-doggie-days.jpeg
END:VEVENT
BEGIN:VEVENT
DTSTART;TZID=UTC:20251230T190000
DTEND;TZID=UTC:20251230T230000
DTSTAMP:20260423T183307
CREATED:20240104T225355Z
LAST-MODIFIED:20240104T225355Z
UID:26848-1767121200-1767135600@dogfriendlysanantonio.com
SUMMARY:Karaoke at Idle Beer
DESCRIPTION:Tuesday Karaoke Night at #IdleBrewing 🎶 Hosted by Irish Cowboy Productions Karaoke 🎶 Every Tuesday night starting at 7pm — sing your heart out and enjoy a cold beer!  Whether you’re a seasoned pro or a complete beginner\, everyone is welcome to join in on the fun.
URL:https://dogfriendlysanantonio.com/event/karaoke-at-idle-beer-2025-12-30/
LOCATION:Idle Beer Hall & Brewery\, 414 Brooklyn Ave
CATEGORIES:Happy Hour,Music
ATTACH;FMTTYPE=image/png:https://dogfriendlysanantonio.com/wp-content/uploads/2024/01/karaoke-idle-beer.png
END:VEVENT
BEGIN:VEVENT
DTSTART;TZID=UTC:20251227T090000
DTEND;TZID=UTC:20251227T130000
DTSTAMP:20260423T183307
CREATED:20220204T055045Z
LAST-MODIFIED:20220204T055045Z
UID:26481-1766826000-1766840400@dogfriendlysanantonio.com
SUMMARY:Pearl Farmers Market
DESCRIPTION:Saturdays markets are dedicated to our local farmers and ranchers. Find fresh produce and meat local to South Texas.
URL:https://dogfriendlysanantonio.com/event/pearl-farmers-market-4-2025-12-27/
LOCATION:The Historic Pearl
CATEGORIES:Shopping
END:VEVENT
BEGIN:VEVENT
DTSTART;TZID=UTC:20251224T180000
DTEND;TZID=UTC:20251224T210000
DTSTAMP:20260423T183307
CREATED:20220304T222423Z
LAST-MODIFIED:20220304T222423Z
UID:26386-1766599200-1766610000@dogfriendlysanantonio.com
SUMMARY:Doggie Days
DESCRIPTION:Pamper your pup every Wednesday at Chicken N Pickle! We will have the most  pawesome  local dog-centric vendors on site for you & your pup to explore.
URL:https://dogfriendlysanantonio.com/event/doggie-days-3-2025-12-24/
LOCATION:Chicken N Pickle\, 5215 UTSA Blvd\, San Antonio\, TX\, 78249\, United States
CATEGORIES:Happy Hour,Shopping,Social
ATTACH;FMTTYPE=image/jpeg:https://dogfriendlysanantonio.com/wp-content/uploads/2022/03/chicken-n-pickle-doggie-days.jpeg
END:VEVENT
BEGIN:VEVENT
DTSTART;TZID=UTC:20251223T190000
DTEND;TZID=UTC:20251223T230000
DTSTAMP:20260423T183307
CREATED:20240104T225355Z
LAST-MODIFIED:20240104T225355Z
UID:26847-1766516400-1766530800@dogfriendlysanantonio.com
SUMMARY:Karaoke at Idle Beer
DESCRIPTION:Tuesday Karaoke Night at #IdleBrewing 🎶 Hosted by Irish Cowboy Productions Karaoke 🎶 Every Tuesday night starting at 7pm — sing your heart out and enjoy a cold beer!  Whether you’re a seasoned pro or a complete beginner\, everyone is welcome to join in on the fun.
URL:https://dogfriendlysanantonio.com/event/karaoke-at-idle-beer-2025-12-23/
LOCATION:Idle Beer Hall & Brewery\, 414 Brooklyn Ave
CATEGORIES:Happy Hour,Music
ATTACH;FMTTYPE=image/png:https://dogfriendlysanantonio.com/wp-content/uploads/2024/01/karaoke-idle-beer.png
END:VEVENT
BEGIN:VEVENT
DTSTART;TZID=UTC:20251220T090000
DTEND;TZID=UTC:20251220T130000
DTSTAMP:20260423T183307
CREATED:20220204T055045Z
LAST-MODIFIED:20220204T055045Z
UID:26293-1766221200-1766235600@dogfriendlysanantonio.com
SUMMARY:Pearl Farmers Market
DESCRIPTION:Saturdays markets are dedicated to our local farmers and ranchers. Find fresh produce and meat local to South Texas.
URL:https://dogfriendlysanantonio.com/event/pearl-farmers-market-4-2025-12-20/
LOCATION:The Historic Pearl
CATEGORIES:Shopping
END:VEVENT
BEGIN:VEVENT
DTSTART;TZID=UTC:20251217T180000
DTEND;TZID=UTC:20251217T210000
DTSTAMP:20260423T183307
CREATED:20220304T222423Z
LAST-MODIFIED:20220304T222423Z
UID:26237-1765994400-1766005200@dogfriendlysanantonio.com
SUMMARY:Doggie Days
DESCRIPTION:Pamper your pup every Wednesday at Chicken N Pickle! We will have the most  pawesome  local dog-centric vendors on site for you & your pup to explore.
URL:https://dogfriendlysanantonio.com/event/doggie-days-3-2025-12-17/
LOCATION:Chicken N Pickle\, 5215 UTSA Blvd\, San Antonio\, TX\, 78249\, United States
CATEGORIES:Happy Hour,Shopping,Social
ATTACH;FMTTYPE=image/jpeg:https://dogfriendlysanantonio.com/wp-content/uploads/2022/03/chicken-n-pickle-doggie-days.jpeg
END:VEVENT
BEGIN:VEVENT
DTSTART;TZID=UTC:20251216T190000
DTEND;TZID=UTC:20251216T230000
DTSTAMP:20260423T183307
CREATED:20240104T225355Z
LAST-MODIFIED:20240104T225355Z
UID:26846-1765911600-1765926000@dogfriendlysanantonio.com
SUMMARY:Karaoke at Idle Beer
DESCRIPTION:Tuesday Karaoke Night at #IdleBrewing 🎶 Hosted by Irish Cowboy Productions Karaoke 🎶 Every Tuesday night starting at 7pm — sing your heart out and enjoy a cold beer!  Whether you’re a seasoned pro or a complete beginner\, everyone is welcome to join in on the fun.
URL:https://dogfriendlysanantonio.com/event/karaoke-at-idle-beer-2025-12-16/
LOCATION:Idle Beer Hall & Brewery\, 414 Brooklyn Ave
CATEGORIES:Happy Hour,Music
ATTACH;FMTTYPE=image/png:https://dogfriendlysanantonio.com/wp-content/uploads/2024/01/karaoke-idle-beer.png
END:VEVENT
BEGIN:VEVENT
DTSTART;TZID=UTC:20251213T090000
DTEND;TZID=UTC:20251213T130000
DTSTAMP:20260423T183307
CREATED:20220204T055045Z
LAST-MODIFIED:20220204T055045Z
UID:26171-1765616400-1765630800@dogfriendlysanantonio.com
SUMMARY:Pearl Farmers Market
DESCRIPTION:Saturdays markets are dedicated to our local farmers and ranchers. Find fresh produce and meat local to South Texas.
URL:https://dogfriendlysanantonio.com/event/pearl-farmers-market-4-2025-12-13/
LOCATION:The Historic Pearl
CATEGORIES:Shopping
END:VEVENT
BEGIN:VEVENT
DTSTART;TZID=UTC:20251210T180000
DTEND;TZID=UTC:20251210T210000
DTSTAMP:20260423T183307
CREATED:20220304T222423Z
LAST-MODIFIED:20220304T222423Z
UID:26046-1765389600-1765400400@dogfriendlysanantonio.com
SUMMARY:Doggie Days
DESCRIPTION:Pamper your pup every Wednesday at Chicken N Pickle! We will have the most  pawesome  local dog-centric vendors on site for you & your pup to explore.
URL:https://dogfriendlysanantonio.com/event/doggie-days-3-2025-12-10/
LOCATION:Chicken N Pickle\, 5215 UTSA Blvd\, San Antonio\, TX\, 78249\, United States
CATEGORIES:Happy Hour,Shopping,Social
ATTACH;FMTTYPE=image/jpeg:https://dogfriendlysanantonio.com/wp-content/uploads/2022/03/chicken-n-pickle-doggie-days.jpeg
END:VEVENT
BEGIN:VEVENT
DTSTART;TZID=UTC:20251209T190000
DTEND;TZID=UTC:20251209T230000
DTSTAMP:20260423T183307
CREATED:20240104T225355Z
LAST-MODIFIED:20240104T225355Z
UID:26845-1765306800-1765321200@dogfriendlysanantonio.com
SUMMARY:Karaoke at Idle Beer
DESCRIPTION:Tuesday Karaoke Night at #IdleBrewing 🎶 Hosted by Irish Cowboy Productions Karaoke 🎶 Every Tuesday night starting at 7pm — sing your heart out and enjoy a cold beer!  Whether you’re a seasoned pro or a complete beginner\, everyone is welcome to join in on the fun.
URL:https://dogfriendlysanantonio.com/event/karaoke-at-idle-beer-2025-12-09/
LOCATION:Idle Beer Hall & Brewery\, 414 Brooklyn Ave
CATEGORIES:Happy Hour,Music
ATTACH;FMTTYPE=image/png:https://dogfriendlysanantonio.com/wp-content/uploads/2024/01/karaoke-idle-beer.png
END:VEVENT
END:VCALENDAR