BEGIN:VCALENDAR
VERSION:2.0
PRODID:-//The Dog Guide San Antonio - ECPv6.13.2.1//NONSGML v1.0//EN
CALSCALE:GREGORIAN
METHOD:PUBLISH
X-WR-CALNAME:The Dog Guide San Antonio
X-ORIGINAL-URL:https://dogfriendlysanantonio.com
X-WR-CALDESC:Events for The Dog Guide San Antonio
REFRESH-INTERVAL;VALUE=DURATION:PT1H
X-Robots-Tag:noindex
X-PUBLISHED-TTL:PT1H
BEGIN:VTIMEZONE
TZID:UTC
BEGIN:STANDARD
TZOFFSETFROM:+0000
TZOFFSETTO:+0000
TZNAME:UTC
DTSTART:20260101T000000
END:STANDARD
END:VTIMEZONE
BEGIN:VEVENT
DTSTART;TZID=UTC:20260411T090000
DTEND;TZID=UTC:20260411T130000
DTSTAMP:20260423T120404
CREATED:20220204T055045Z
LAST-MODIFIED:20220204T055045Z
UID:32169-1775898000-1775912400@dogfriendlysanantonio.com
SUMMARY:Pearl Farmers Market
DESCRIPTION:Saturdays markets are dedicated to our local farmers and ranchers. Find fresh produce and meat local to South Texas.
URL:https://dogfriendlysanantonio.com/event/pearl-farmers-market-4-2026-04-11/
LOCATION:The Historic Pearl
CATEGORIES:Shopping
END:VEVENT
BEGIN:VEVENT
DTSTART;TZID=UTC:20260414T190000
DTEND;TZID=UTC:20260414T230000
DTSTAMP:20260423T120404
CREATED:20240104T225355Z
LAST-MODIFIED:20240104T225355Z
UID:32119-1776193200-1776207600@dogfriendlysanantonio.com
SUMMARY:Karaoke at Idle Beer
DESCRIPTION:Tuesday Karaoke Night at #IdleBrewing 🎶 Hosted by Irish Cowboy Productions Karaoke 🎶 Every Tuesday night starting at 7pm — sing your heart out and enjoy a cold beer!  Whether you’re a seasoned pro or a complete beginner\, everyone is welcome to join in on the fun.
URL:https://dogfriendlysanantonio.com/event/karaoke-at-idle-beer-2026-04-14/
LOCATION:Idle Beer Hall & Brewery\, 414 Brooklyn Ave
CATEGORIES:Happy Hour,Music
ATTACH;FMTTYPE=image/png:https://dogfriendlysanantonio.com/wp-content/uploads/2024/01/karaoke-idle-beer.png
END:VEVENT
BEGIN:VEVENT
DTSTART;TZID=UTC:20260415T180000
DTEND;TZID=UTC:20260415T210000
DTSTAMP:20260423T120404
CREATED:20220304T222423Z
LAST-MODIFIED:20220304T222423Z
UID:32144-1776276000-1776286800@dogfriendlysanantonio.com
SUMMARY:Doggie Days
DESCRIPTION:Pamper your pup every Wednesday at Chicken N Pickle! We will have the most  pawesome  local dog-centric vendors on site for you & your pup to explore.
URL:https://dogfriendlysanantonio.com/event/doggie-days-3-2026-04-15/
LOCATION:Chicken N Pickle\, 5215 UTSA Blvd\, San Antonio\, TX\, 78249\, United States
CATEGORIES:Happy Hour,Shopping,Social
ATTACH;FMTTYPE=image/jpeg:https://dogfriendlysanantonio.com/wp-content/uploads/2022/03/chicken-n-pickle-doggie-days.jpeg
END:VEVENT
BEGIN:VEVENT
DTSTART;TZID=UTC:20260418T090000
DTEND;TZID=UTC:20260418T130000
DTSTAMP:20260423T120404
CREATED:20220204T055045Z
LAST-MODIFIED:20220204T055045Z
UID:32170-1776502800-1776517200@dogfriendlysanantonio.com
SUMMARY:Pearl Farmers Market
DESCRIPTION:Saturdays markets are dedicated to our local farmers and ranchers. Find fresh produce and meat local to South Texas.
URL:https://dogfriendlysanantonio.com/event/pearl-farmers-market-4-2026-04-18/
LOCATION:The Historic Pearl
CATEGORIES:Shopping
END:VEVENT
BEGIN:VEVENT
DTSTART;TZID=UTC:20260421T190000
DTEND;TZID=UTC:20260421T230000
DTSTAMP:20260423T120404
CREATED:20240104T225355Z
LAST-MODIFIED:20240104T225355Z
UID:32120-1776798000-1776812400@dogfriendlysanantonio.com
SUMMARY:Karaoke at Idle Beer
DESCRIPTION:Tuesday Karaoke Night at #IdleBrewing 🎶 Hosted by Irish Cowboy Productions Karaoke 🎶 Every Tuesday night starting at 7pm — sing your heart out and enjoy a cold beer!  Whether you’re a seasoned pro or a complete beginner\, everyone is welcome to join in on the fun.
URL:https://dogfriendlysanantonio.com/event/karaoke-at-idle-beer-2026-04-21/
LOCATION:Idle Beer Hall & Brewery\, 414 Brooklyn Ave
CATEGORIES:Happy Hour,Music
ATTACH;FMTTYPE=image/png:https://dogfriendlysanantonio.com/wp-content/uploads/2024/01/karaoke-idle-beer.png
END:VEVENT
BEGIN:VEVENT
DTSTART;TZID=UTC:20260422T180000
DTEND;TZID=UTC:20260422T210000
DTSTAMP:20260423T120404
CREATED:20220304T222423Z
LAST-MODIFIED:20220304T222423Z
UID:32145-1776880800-1776891600@dogfriendlysanantonio.com
SUMMARY:Doggie Days
DESCRIPTION:Pamper your pup every Wednesday at Chicken N Pickle! We will have the most  pawesome  local dog-centric vendors on site for you & your pup to explore.
URL:https://dogfriendlysanantonio.com/event/doggie-days-3-2026-04-22/
LOCATION:Chicken N Pickle\, 5215 UTSA Blvd\, San Antonio\, TX\, 78249\, United States
CATEGORIES:Happy Hour,Shopping,Social
ATTACH;FMTTYPE=image/jpeg:https://dogfriendlysanantonio.com/wp-content/uploads/2022/03/chicken-n-pickle-doggie-days.jpeg
END:VEVENT
BEGIN:VEVENT
DTSTART;TZID=UTC:20260425T090000
DTEND;TZID=UTC:20260425T130000
DTSTAMP:20260423T120404
CREATED:20220204T055045Z
LAST-MODIFIED:20220204T055045Z
UID:32171-1777107600-1777122000@dogfriendlysanantonio.com
SUMMARY:Pearl Farmers Market
DESCRIPTION:Saturdays markets are dedicated to our local farmers and ranchers. Find fresh produce and meat local to South Texas.
URL:https://dogfriendlysanantonio.com/event/pearl-farmers-market-4-2026-04-25/
LOCATION:The Historic Pearl
CATEGORIES:Shopping
END:VEVENT
BEGIN:VEVENT
DTSTART;TZID=UTC:20260428T190000
DTEND;TZID=UTC:20260428T230000
DTSTAMP:20260423T120404
CREATED:20240104T225355Z
LAST-MODIFIED:20240104T225355Z
UID:32121-1777402800-1777417200@dogfriendlysanantonio.com
SUMMARY:Karaoke at Idle Beer
DESCRIPTION:Tuesday Karaoke Night at #IdleBrewing 🎶 Hosted by Irish Cowboy Productions Karaoke 🎶 Every Tuesday night starting at 7pm — sing your heart out and enjoy a cold beer!  Whether you’re a seasoned pro or a complete beginner\, everyone is welcome to join in on the fun.
URL:https://dogfriendlysanantonio.com/event/karaoke-at-idle-beer-2026-04-28/
LOCATION:Idle Beer Hall & Brewery\, 414 Brooklyn Ave
CATEGORIES:Happy Hour,Music
ATTACH;FMTTYPE=image/png:https://dogfriendlysanantonio.com/wp-content/uploads/2024/01/karaoke-idle-beer.png
END:VEVENT
BEGIN:VEVENT
DTSTART;TZID=UTC:20260429T180000
DTEND;TZID=UTC:20260429T210000
DTSTAMP:20260423T120404
CREATED:20220304T222423Z
LAST-MODIFIED:20220304T222423Z
UID:32146-1777485600-1777496400@dogfriendlysanantonio.com
SUMMARY:Doggie Days
DESCRIPTION:Pamper your pup every Wednesday at Chicken N Pickle! We will have the most  pawesome  local dog-centric vendors on site for you & your pup to explore.
URL:https://dogfriendlysanantonio.com/event/doggie-days-3-2026-04-29/
LOCATION:Chicken N Pickle\, 5215 UTSA Blvd\, San Antonio\, TX\, 78249\, United States
CATEGORIES:Happy Hour,Shopping,Social
ATTACH;FMTTYPE=image/jpeg:https://dogfriendlysanantonio.com/wp-content/uploads/2022/03/chicken-n-pickle-doggie-days.jpeg
END:VEVENT
BEGIN:VEVENT
DTSTART;TZID=UTC:20260502T090000
DTEND;TZID=UTC:20260502T130000
DTSTAMP:20260423T120404
CREATED:20220204T055045Z
LAST-MODIFIED:20220204T055045Z
UID:32172-1777712400-1777726800@dogfriendlysanantonio.com
SUMMARY:Pearl Farmers Market
DESCRIPTION:Saturdays markets are dedicated to our local farmers and ranchers. Find fresh produce and meat local to South Texas.
URL:https://dogfriendlysanantonio.com/event/pearl-farmers-market-4-2026-05-02/
LOCATION:The Historic Pearl
CATEGORIES:Shopping
END:VEVENT
BEGIN:VEVENT
DTSTART;TZID=UTC:20260505T190000
DTEND;TZID=UTC:20260505T230000
DTSTAMP:20260423T120404
CREATED:20240104T225355Z
LAST-MODIFIED:20240104T225355Z
UID:32122-1778007600-1778022000@dogfriendlysanantonio.com
SUMMARY:Karaoke at Idle Beer
DESCRIPTION:Tuesday Karaoke Night at #IdleBrewing 🎶 Hosted by Irish Cowboy Productions Karaoke 🎶 Every Tuesday night starting at 7pm — sing your heart out and enjoy a cold beer!  Whether you’re a seasoned pro or a complete beginner\, everyone is welcome to join in on the fun.
URL:https://dogfriendlysanantonio.com/event/karaoke-at-idle-beer-2026-05-05/
LOCATION:Idle Beer Hall & Brewery\, 414 Brooklyn Ave
CATEGORIES:Happy Hour,Music
ATTACH;FMTTYPE=image/png:https://dogfriendlysanantonio.com/wp-content/uploads/2024/01/karaoke-idle-beer.png
END:VEVENT
BEGIN:VEVENT
DTSTART;TZID=UTC:20260506T180000
DTEND;TZID=UTC:20260506T210000
DTSTAMP:20260423T120404
CREATED:20220304T222423Z
LAST-MODIFIED:20220304T222423Z
UID:32147-1778090400-1778101200@dogfriendlysanantonio.com
SUMMARY:Doggie Days
DESCRIPTION:Pamper your pup every Wednesday at Chicken N Pickle! We will have the most  pawesome  local dog-centric vendors on site for you & your pup to explore.
URL:https://dogfriendlysanantonio.com/event/doggie-days-3-2026-05-06/
LOCATION:Chicken N Pickle\, 5215 UTSA Blvd\, San Antonio\, TX\, 78249\, United States
CATEGORIES:Happy Hour,Shopping,Social
ATTACH;FMTTYPE=image/jpeg:https://dogfriendlysanantonio.com/wp-content/uploads/2022/03/chicken-n-pickle-doggie-days.jpeg
END:VEVENT
BEGIN:VEVENT
DTSTART;TZID=UTC:20260509T090000
DTEND;TZID=UTC:20260509T130000
DTSTAMP:20260423T120404
CREATED:20220204T055045Z
LAST-MODIFIED:20220204T055045Z
UID:32173-1778317200-1778331600@dogfriendlysanantonio.com
SUMMARY:Pearl Farmers Market
DESCRIPTION:Saturdays markets are dedicated to our local farmers and ranchers. Find fresh produce and meat local to South Texas.
URL:https://dogfriendlysanantonio.com/event/pearl-farmers-market-4-2026-05-09/
LOCATION:The Historic Pearl
CATEGORIES:Shopping
END:VEVENT
BEGIN:VEVENT
DTSTART;TZID=UTC:20260512T190000
DTEND;TZID=UTC:20260512T230000
DTSTAMP:20260423T120404
CREATED:20240104T225355Z
LAST-MODIFIED:20240104T225355Z
UID:32123-1778612400-1778626800@dogfriendlysanantonio.com
SUMMARY:Karaoke at Idle Beer
DESCRIPTION:Tuesday Karaoke Night at #IdleBrewing 🎶 Hosted by Irish Cowboy Productions Karaoke 🎶 Every Tuesday night starting at 7pm — sing your heart out and enjoy a cold beer!  Whether you’re a seasoned pro or a complete beginner\, everyone is welcome to join in on the fun.
URL:https://dogfriendlysanantonio.com/event/karaoke-at-idle-beer-2026-05-12/
LOCATION:Idle Beer Hall & Brewery\, 414 Brooklyn Ave
CATEGORIES:Happy Hour,Music
ATTACH;FMTTYPE=image/png:https://dogfriendlysanantonio.com/wp-content/uploads/2024/01/karaoke-idle-beer.png
END:VEVENT
BEGIN:VEVENT
DTSTART;TZID=UTC:20260513T180000
DTEND;TZID=UTC:20260513T210000
DTSTAMP:20260423T120404
CREATED:20220304T222423Z
LAST-MODIFIED:20220304T222423Z
UID:32148-1778695200-1778706000@dogfriendlysanantonio.com
SUMMARY:Doggie Days
DESCRIPTION:Pamper your pup every Wednesday at Chicken N Pickle! We will have the most  pawesome  local dog-centric vendors on site for you & your pup to explore.
URL:https://dogfriendlysanantonio.com/event/doggie-days-3-2026-05-13/
LOCATION:Chicken N Pickle\, 5215 UTSA Blvd\, San Antonio\, TX\, 78249\, United States
CATEGORIES:Happy Hour,Shopping,Social
ATTACH;FMTTYPE=image/jpeg:https://dogfriendlysanantonio.com/wp-content/uploads/2022/03/chicken-n-pickle-doggie-days.jpeg
END:VEVENT
BEGIN:VEVENT
DTSTART;TZID=UTC:20260516T090000
DTEND;TZID=UTC:20260516T130000
DTSTAMP:20260423T120404
CREATED:20220204T055045Z
LAST-MODIFIED:20220204T055045Z
UID:32174-1778922000-1778936400@dogfriendlysanantonio.com
SUMMARY:Pearl Farmers Market
DESCRIPTION:Saturdays markets are dedicated to our local farmers and ranchers. Find fresh produce and meat local to South Texas.
URL:https://dogfriendlysanantonio.com/event/pearl-farmers-market-4-2026-05-16/
LOCATION:The Historic Pearl
CATEGORIES:Shopping
END:VEVENT
BEGIN:VEVENT
DTSTART;TZID=UTC:20260519T190000
DTEND;TZID=UTC:20260519T230000
DTSTAMP:20260423T120404
CREATED:20240104T225355Z
LAST-MODIFIED:20240104T225355Z
UID:32124-1779217200-1779231600@dogfriendlysanantonio.com
SUMMARY:Karaoke at Idle Beer
DESCRIPTION:Tuesday Karaoke Night at #IdleBrewing 🎶 Hosted by Irish Cowboy Productions Karaoke 🎶 Every Tuesday night starting at 7pm — sing your heart out and enjoy a cold beer!  Whether you’re a seasoned pro or a complete beginner\, everyone is welcome to join in on the fun.
URL:https://dogfriendlysanantonio.com/event/karaoke-at-idle-beer-2026-05-19/
LOCATION:Idle Beer Hall & Brewery\, 414 Brooklyn Ave
CATEGORIES:Happy Hour,Music
ATTACH;FMTTYPE=image/png:https://dogfriendlysanantonio.com/wp-content/uploads/2024/01/karaoke-idle-beer.png
END:VEVENT
BEGIN:VEVENT
DTSTART;TZID=UTC:20260520T180000
DTEND;TZID=UTC:20260520T210000
DTSTAMP:20260423T120404
CREATED:20220304T222423Z
LAST-MODIFIED:20220304T222423Z
UID:32149-1779300000-1779310800@dogfriendlysanantonio.com
SUMMARY:Doggie Days
DESCRIPTION:Pamper your pup every Wednesday at Chicken N Pickle! We will have the most  pawesome  local dog-centric vendors on site for you & your pup to explore.
URL:https://dogfriendlysanantonio.com/event/doggie-days-3-2026-05-20/
LOCATION:Chicken N Pickle\, 5215 UTSA Blvd\, San Antonio\, TX\, 78249\, United States
CATEGORIES:Happy Hour,Shopping,Social
ATTACH;FMTTYPE=image/jpeg:https://dogfriendlysanantonio.com/wp-content/uploads/2022/03/chicken-n-pickle-doggie-days.jpeg
END:VEVENT
BEGIN:VEVENT
DTSTART;TZID=UTC:20260523T090000
DTEND;TZID=UTC:20260523T130000
DTSTAMP:20260423T120404
CREATED:20220204T055045Z
LAST-MODIFIED:20220204T055045Z
UID:32175-1779526800-1779541200@dogfriendlysanantonio.com
SUMMARY:Pearl Farmers Market
DESCRIPTION:Saturdays markets are dedicated to our local farmers and ranchers. Find fresh produce and meat local to South Texas.
URL:https://dogfriendlysanantonio.com/event/pearl-farmers-market-4-2026-05-23/
LOCATION:The Historic Pearl
CATEGORIES:Shopping
END:VEVENT
BEGIN:VEVENT
DTSTART;TZID=UTC:20260526T190000
DTEND;TZID=UTC:20260526T230000
DTSTAMP:20260423T120404
CREATED:20240104T225355Z
LAST-MODIFIED:20240104T225355Z
UID:32125-1779822000-1779836400@dogfriendlysanantonio.com
SUMMARY:Karaoke at Idle Beer
DESCRIPTION:Tuesday Karaoke Night at #IdleBrewing 🎶 Hosted by Irish Cowboy Productions Karaoke 🎶 Every Tuesday night starting at 7pm — sing your heart out and enjoy a cold beer!  Whether you’re a seasoned pro or a complete beginner\, everyone is welcome to join in on the fun.
URL:https://dogfriendlysanantonio.com/event/karaoke-at-idle-beer-2026-05-26/
LOCATION:Idle Beer Hall & Brewery\, 414 Brooklyn Ave
CATEGORIES:Happy Hour,Music
ATTACH;FMTTYPE=image/png:https://dogfriendlysanantonio.com/wp-content/uploads/2024/01/karaoke-idle-beer.png
END:VEVENT
BEGIN:VEVENT
DTSTART;TZID=UTC:20260527T180000
DTEND;TZID=UTC:20260527T210000
DTSTAMP:20260423T120404
CREATED:20220304T222423Z
LAST-MODIFIED:20220304T222423Z
UID:32150-1779904800-1779915600@dogfriendlysanantonio.com
SUMMARY:Doggie Days
DESCRIPTION:Pamper your pup every Wednesday at Chicken N Pickle! We will have the most  pawesome  local dog-centric vendors on site for you & your pup to explore.
URL:https://dogfriendlysanantonio.com/event/doggie-days-3-2026-05-27/
LOCATION:Chicken N Pickle\, 5215 UTSA Blvd\, San Antonio\, TX\, 78249\, United States
CATEGORIES:Happy Hour,Shopping,Social
ATTACH;FMTTYPE=image/jpeg:https://dogfriendlysanantonio.com/wp-content/uploads/2022/03/chicken-n-pickle-doggie-days.jpeg
END:VEVENT
BEGIN:VEVENT
DTSTART;TZID=UTC:20260530T090000
DTEND;TZID=UTC:20260530T130000
DTSTAMP:20260423T120404
CREATED:20220204T055045Z
LAST-MODIFIED:20220204T055045Z
UID:32176-1780131600-1780146000@dogfriendlysanantonio.com
SUMMARY:Pearl Farmers Market
DESCRIPTION:Saturdays markets are dedicated to our local farmers and ranchers. Find fresh produce and meat local to South Texas.
URL:https://dogfriendlysanantonio.com/event/pearl-farmers-market-4-2026-05-30/
LOCATION:The Historic Pearl
CATEGORIES:Shopping
END:VEVENT
BEGIN:VEVENT
DTSTART;TZID=UTC:20260602T190000
DTEND;TZID=UTC:20260602T230000
DTSTAMP:20260423T120404
CREATED:20240104T225355Z
LAST-MODIFIED:20240104T225355Z
UID:32126-1780426800-1780441200@dogfriendlysanantonio.com
SUMMARY:Karaoke at Idle Beer
DESCRIPTION:Tuesday Karaoke Night at #IdleBrewing 🎶 Hosted by Irish Cowboy Productions Karaoke 🎶 Every Tuesday night starting at 7pm — sing your heart out and enjoy a cold beer!  Whether you’re a seasoned pro or a complete beginner\, everyone is welcome to join in on the fun.
URL:https://dogfriendlysanantonio.com/event/karaoke-at-idle-beer-2026-06-02/
LOCATION:Idle Beer Hall & Brewery\, 414 Brooklyn Ave
CATEGORIES:Happy Hour,Music
ATTACH;FMTTYPE=image/png:https://dogfriendlysanantonio.com/wp-content/uploads/2024/01/karaoke-idle-beer.png
END:VEVENT
BEGIN:VEVENT
DTSTART;TZID=UTC:20260603T180000
DTEND;TZID=UTC:20260603T210000
DTSTAMP:20260423T120404
CREATED:20220304T222423Z
LAST-MODIFIED:20220304T222423Z
UID:32151-1780509600-1780520400@dogfriendlysanantonio.com
SUMMARY:Doggie Days
DESCRIPTION:Pamper your pup every Wednesday at Chicken N Pickle! We will have the most  pawesome  local dog-centric vendors on site for you & your pup to explore.
URL:https://dogfriendlysanantonio.com/event/doggie-days-3-2026-06-03/
LOCATION:Chicken N Pickle\, 5215 UTSA Blvd\, San Antonio\, TX\, 78249\, United States
CATEGORIES:Happy Hour,Shopping,Social
ATTACH;FMTTYPE=image/jpeg:https://dogfriendlysanantonio.com/wp-content/uploads/2022/03/chicken-n-pickle-doggie-days.jpeg
END:VEVENT
BEGIN:VEVENT
DTSTART;TZID=UTC:20260606T090000
DTEND;TZID=UTC:20260606T130000
DTSTAMP:20260423T120404
CREATED:20220204T055045Z
LAST-MODIFIED:20220204T055045Z
UID:32177-1780736400-1780750800@dogfriendlysanantonio.com
SUMMARY:Pearl Farmers Market
DESCRIPTION:Saturdays markets are dedicated to our local farmers and ranchers. Find fresh produce and meat local to South Texas.
URL:https://dogfriendlysanantonio.com/event/pearl-farmers-market-4-2026-06-06/
LOCATION:The Historic Pearl
CATEGORIES:Shopping
END:VEVENT
BEGIN:VEVENT
DTSTART;TZID=UTC:20260609T190000
DTEND;TZID=UTC:20260609T230000
DTSTAMP:20260423T120404
CREATED:20240104T225355Z
LAST-MODIFIED:20240104T225355Z
UID:32127-1781031600-1781046000@dogfriendlysanantonio.com
SUMMARY:Karaoke at Idle Beer
DESCRIPTION:Tuesday Karaoke Night at #IdleBrewing 🎶 Hosted by Irish Cowboy Productions Karaoke 🎶 Every Tuesday night starting at 7pm — sing your heart out and enjoy a cold beer!  Whether you’re a seasoned pro or a complete beginner\, everyone is welcome to join in on the fun.
URL:https://dogfriendlysanantonio.com/event/karaoke-at-idle-beer-2026-06-09/
LOCATION:Idle Beer Hall & Brewery\, 414 Brooklyn Ave
CATEGORIES:Happy Hour,Music
ATTACH;FMTTYPE=image/png:https://dogfriendlysanantonio.com/wp-content/uploads/2024/01/karaoke-idle-beer.png
END:VEVENT
BEGIN:VEVENT
DTSTART;TZID=UTC:20260610T180000
DTEND;TZID=UTC:20260610T210000
DTSTAMP:20260423T120404
CREATED:20220304T222423Z
LAST-MODIFIED:20220304T222423Z
UID:32152-1781114400-1781125200@dogfriendlysanantonio.com
SUMMARY:Doggie Days
DESCRIPTION:Pamper your pup every Wednesday at Chicken N Pickle! We will have the most  pawesome  local dog-centric vendors on site for you & your pup to explore.
URL:https://dogfriendlysanantonio.com/event/doggie-days-3-2026-06-10/
LOCATION:Chicken N Pickle\, 5215 UTSA Blvd\, San Antonio\, TX\, 78249\, United States
CATEGORIES:Happy Hour,Shopping,Social
ATTACH;FMTTYPE=image/jpeg:https://dogfriendlysanantonio.com/wp-content/uploads/2022/03/chicken-n-pickle-doggie-days.jpeg
END:VEVENT
BEGIN:VEVENT
DTSTART;TZID=UTC:20260613T090000
DTEND;TZID=UTC:20260613T130000
DTSTAMP:20260423T120405
CREATED:20220204T055045Z
LAST-MODIFIED:20220204T055045Z
UID:32178-1781341200-1781355600@dogfriendlysanantonio.com
SUMMARY:Pearl Farmers Market
DESCRIPTION:Saturdays markets are dedicated to our local farmers and ranchers. Find fresh produce and meat local to South Texas.
URL:https://dogfriendlysanantonio.com/event/pearl-farmers-market-4-2026-06-13/
LOCATION:The Historic Pearl
CATEGORIES:Shopping
END:VEVENT
BEGIN:VEVENT
DTSTART;TZID=UTC:20260616T190000
DTEND;TZID=UTC:20260616T230000
DTSTAMP:20260423T120405
CREATED:20240104T225355Z
LAST-MODIFIED:20240104T225355Z
UID:32128-1781636400-1781650800@dogfriendlysanantonio.com
SUMMARY:Karaoke at Idle Beer
DESCRIPTION:Tuesday Karaoke Night at #IdleBrewing 🎶 Hosted by Irish Cowboy Productions Karaoke 🎶 Every Tuesday night starting at 7pm — sing your heart out and enjoy a cold beer!  Whether you’re a seasoned pro or a complete beginner\, everyone is welcome to join in on the fun.
URL:https://dogfriendlysanantonio.com/event/karaoke-at-idle-beer-2026-06-16/
LOCATION:Idle Beer Hall & Brewery\, 414 Brooklyn Ave
CATEGORIES:Happy Hour,Music
ATTACH;FMTTYPE=image/png:https://dogfriendlysanantonio.com/wp-content/uploads/2024/01/karaoke-idle-beer.png
END:VEVENT
BEGIN:VEVENT
DTSTART;TZID=UTC:20260617T180000
DTEND;TZID=UTC:20260617T210000
DTSTAMP:20260423T120405
CREATED:20220304T222423Z
LAST-MODIFIED:20220304T222423Z
UID:32153-1781719200-1781730000@dogfriendlysanantonio.com
SUMMARY:Doggie Days
DESCRIPTION:Pamper your pup every Wednesday at Chicken N Pickle! We will have the most  pawesome  local dog-centric vendors on site for you & your pup to explore.
URL:https://dogfriendlysanantonio.com/event/doggie-days-3-2026-06-17/
LOCATION:Chicken N Pickle\, 5215 UTSA Blvd\, San Antonio\, TX\, 78249\, United States
CATEGORIES:Happy Hour,Shopping,Social
ATTACH;FMTTYPE=image/jpeg:https://dogfriendlysanantonio.com/wp-content/uploads/2022/03/chicken-n-pickle-doggie-days.jpeg
END:VEVENT
END:VCALENDAR